BEGIN:VCALENDAR
VERSION:2.0
PRODID:-//younited - ECPv6.15.17.1//NONSGML v1.0//EN
CALSCALE:GREGORIAN
METHOD:PUBLISH
X-WR-CALNAME:younited
X-ORIGINAL-URL:https://younited.cc
X-WR-CALDESC:Veranstaltungen für younited
REFRESH-INTERVAL;VALUE=DURATION:PT1H
X-Robots-Tag:noindex
X-PUBLISHED-TTL:PT1H
BEGIN:VTIMEZONE
TZID:Europe/Vienna
BEGIN:DAYLIGHT
TZOFFSETFROM:+0100
TZOFFSETTO:+0200
TZNAME:CEST
DTSTART:20210328T010000
END:DAYLIGHT
BEGIN:STANDARD
TZOFFSETFROM:+0200
TZOFFSETTO:+0100
TZNAME:CET
DTSTART:20211031T010000
END:STANDARD
BEGIN:DAYLIGHT
TZOFFSETFROM:+0100
TZOFFSETTO:+0200
TZNAME:CEST
DTSTART:20220327T010000
END:DAYLIGHT
BEGIN:STANDARD
TZOFFSETFROM:+0200
TZOFFSETTO:+0100
TZNAME:CET
DTSTART:20221030T010000
END:STANDARD
BEGIN:DAYLIGHT
TZOFFSETFROM:+0100
TZOFFSETTO:+0200
TZNAME:CEST
DTSTART:20230326T010000
END:DAYLIGHT
BEGIN:STANDARD
TZOFFSETFROM:+0200
TZOFFSETTO:+0100
TZNAME:CET
DTSTART:20231029T010000
END:STANDARD
END:VTIMEZONE
BEGIN:VEVENT
DTSTART;TZID=Europe/Vienna:20221125T180000
DTEND;TZID=Europe/Vienna:20221125T220000
DTSTAMP:20260424T102902
CREATED:20221102T182332Z
LAST-MODIFIED:20230126T182638Z
UID:116-1669399200-1669413600@younited.cc
SUMMARY:YOUnited - Queerer Spieleabend in Linz
DESCRIPTION:Hey Queers! \n\n\n\nWir treffen uns wieder zu einem Spieleabend im Ann and Pat!Wer nicht spielen möchte\, kann natürlich auch einfach sitzen und quatschen. \n\n\n\nTreffpunkt ist um 18:00 im Jugendzentrum Ann and Pat. \n\n\n\nWer neu ist kann sich gern melden und z.B. am Hauptplatz abgeholt werden. \n\n\n\n🖤❤️🧡💛💚💙💜Achtung: bei allen YOUnited Treffen gilt ein Konsumverbot von (legalen sowie illegalen) bewusstseinsverändernden Substanzen.🖤❤️🧡💛💚💙💜 \n\n\n\nWir freuen uns auf euch!Euer YOUnited Team \n\n\n\n>> English version: \n\n\n\nHey queers! \n\n\n\nWe are meeting again for a game evening at Ann and Pat.Those who don’t want to play can also just sit and chat. \n\n\n\nWe are meeting at the youth center Ann and Pat at 6pm. \n\n\n\nIf you are new\, you are welcome to contact us and\, for example\, be picked up at the main square. \n\n\n\n🖤❤️🧡💛💚💙💜Attention: a ban on the consumption of (legal and illegal) mind-altering substances applies at all YOUnited meetings.🖤❤️🧡💛💚💙💜 \n\n\n\nWe look forward to you! \n\n\n\nYour YOUnited team
URL:https://younited.cc/event/younited-queerer-spieleabend-in-linz-1/
LOCATION:ann and pat\, Lederergasse 7\, Linz\, 4020
CATEGORIES:linz
ATTACH;FMTTYPE=image/jpeg:https://younited.cc/app/uploads/2022/11/younited_2021-10-01_spieleabend.jpg
END:VEVENT
END:VCALENDAR