BEGIN:VCALENDAR
VERSION:2.0
PRODID:-//younited - ECPv6.15.17.1//NONSGML v1.0//EN
CALSCALE:GREGORIAN
METHOD:PUBLISH
X-ORIGINAL-URL:https://younited.cc
X-WR-CALDESC:Veranstaltungen für younited
REFRESH-INTERVAL;VALUE=DURATION:PT1H
X-Robots-Tag:noindex
X-PUBLISHED-TTL:PT1H
BEGIN:VTIMEZONE
TZID:Europe/Vienna
BEGIN:DAYLIGHT
TZOFFSETFROM:+0100
TZOFFSETTO:+0200
TZNAME:CEST
DTSTART:20220327T010000
END:DAYLIGHT
BEGIN:STANDARD
TZOFFSETFROM:+0200
TZOFFSETTO:+0100
TZNAME:CET
DTSTART:20221030T010000
END:STANDARD
BEGIN:DAYLIGHT
TZOFFSETFROM:+0100
TZOFFSETTO:+0200
TZNAME:CEST
DTSTART:20230326T010000
END:DAYLIGHT
BEGIN:STANDARD
TZOFFSETFROM:+0200
TZOFFSETTO:+0100
TZNAME:CET
DTSTART:20231029T010000
END:STANDARD
BEGIN:DAYLIGHT
TZOFFSETFROM:+0100
TZOFFSETTO:+0200
TZNAME:CEST
DTSTART:20240331T010000
END:DAYLIGHT
BEGIN:STANDARD
TZOFFSETFROM:+0200
TZOFFSETTO:+0100
TZNAME:CET
DTSTART:20241027T010000
END:STANDARD
END:VTIMEZONE
BEGIN:VEVENT
DTSTART;TZID=Europe/Vienna:20230210T190000
DTEND;TZID=Europe/Vienna:20230210T210000
DTSTAMP:20260424T061729
CREATED:20230202T223203Z
LAST-MODIFIED:20230202T223405Z
UID:211-1676055600-1676062800@younited.cc
SUMMARY:Kulinarische Begegnung
DESCRIPTION:(English below) \n\n\n\n🍜🍲🥘🌯Kulinarische Begegnung im Gewölbe Steyr 🥟🥨🥣🌮 \n\n\n\nQueere (Selbst-)Liebe geht durch den Magen 😋YOUnited & Gewölbe Steyr laden ein zur kulinarischen Begegnung am 10. Februar von 19 Uhr bis 21 Uhr ein 💕🤝💕3 tolle Menschen aus unterschiedlichen Ländern werden uns ihre Kultur und kulturellen Leckereien vorstellen und im Anschluss gibt es einen Festsschmaus – natürlich bestehend aus den vorher gekochten kulturellen Spezialitäten 🤤🥧🍛🍱 \n\n\n\nSei dabei und lass es dir schmecken 🥰Natürlich muss niemand etwas essen\, die*der nicht will❣️ \n\n\n\n❣️❣️ Ausnahmsweise gilt für diese Veranstaltung Anmeldepflicht. Eure Daten bleiben dabei natürlich anonym. Anmeldeschluss ist am 8. Februar.❣️❣️ \n\n\n\nHier geht’s zur Anmeldung: \n\n\n\n\n\n  \n\n\n\n Dein Name\n \n \n Deine Email-Adresse\n \n \n Deine Nachricht (optional)\n \n \n      \n \n\n\n\n\n\n\n💗💗💗💗💗💗💗💗💗💗💗💗💗💗💗💗💗💗💗💗💗💗💗💗💗💗💗💗💗💗💗 \n\n\n\nEnglish version: \n\n\n\n🍜🍲🥘🌯 Culinary encounter in the Gewölbe Steyr 🥟🥨🥣🌮 \n\n\n\nQueer (self) love goes through the stomach 😋YOUnited & Gewölbe Steyr invite you to a culinary encounter on February 10th from 7pm to 9pm 💕🤝💕3 great people from different countries will introduce us to their culture and cultural treats. At the end of the night we will feast on the  freshly cooked cultural specialties 🤤🥧🍛🍱 \n\n\n\nJoin us and enjoy to your heart’s content 🥰Of course nobody has to eat anything if they don’t want to❣️ \n\n\n\n❣️❣️ Unlike usually\, registration is mandatory for this event.  Your personal data will of course remain anonymous.  Registration closes on February 8th.❣️❣️ \n\n\n\nRegister here: \n\n\n\n\n\n  \n\n\n\n Your name\n \n \n Your email\n \n \n Your message (optional)
URL:https://younited.cc/event/kulinarische-begegnung/
LOCATION:Jugendzentrum Gewölbe\, Pfarrgasse 6\, Steyr\, 4400\, Österreich
CATEGORIES:steyr
ATTACH;FMTTYPE=image/jpeg:https://younited.cc/app/uploads/2022/11/younited_2022-11-18_steyr.jpeg
END:VEVENT
END:VCALENDAR