BEGIN:VCALENDAR
VERSION:2.0
PRODID:-//younited - ECPv6.15.17.1//NONSGML v1.0//EN
CALSCALE:GREGORIAN
METHOD:PUBLISH
X-WR-CALNAME:younited
X-ORIGINAL-URL:https://younited.cc
X-WR-CALDESC:Veranstaltungen für younited
REFRESH-INTERVAL;VALUE=DURATION:PT1H
X-Robots-Tag:noindex
X-PUBLISHED-TTL:PT1H
BEGIN:VTIMEZONE
TZID:Europe/Vienna
BEGIN:DAYLIGHT
TZOFFSETFROM:+0100
TZOFFSETTO:+0200
TZNAME:CEST
DTSTART:20220327T010000
END:DAYLIGHT
BEGIN:STANDARD
TZOFFSETFROM:+0200
TZOFFSETTO:+0100
TZNAME:CET
DTSTART:20221030T010000
END:STANDARD
BEGIN:DAYLIGHT
TZOFFSETFROM:+0100
TZOFFSETTO:+0200
TZNAME:CEST
DTSTART:20230326T010000
END:DAYLIGHT
BEGIN:STANDARD
TZOFFSETFROM:+0200
TZOFFSETTO:+0100
TZNAME:CET
DTSTART:20231029T010000
END:STANDARD
BEGIN:DAYLIGHT
TZOFFSETFROM:+0100
TZOFFSETTO:+0200
TZNAME:CEST
DTSTART:20240331T010000
END:DAYLIGHT
BEGIN:STANDARD
TZOFFSETFROM:+0200
TZOFFSETTO:+0100
TZNAME:CET
DTSTART:20241027T010000
END:STANDARD
END:VTIMEZONE
BEGIN:VEVENT
DTSTART;TZID=Europe/Vienna:20230317T180000
DTEND;TZID=Europe/Vienna:20230317T220000
DTSTAMP:20260424T045556
CREATED:20230303T135630Z
LAST-MODIFIED:20230303T144742Z
UID:254-1679076000-1679090400@younited.cc
SUMMARY:Frühlingsspaziergang
DESCRIPTION:Hey Queers! \n\n\n\nEs ist wieder Frühling\, und wir genießen die warme Sonne bei einem Frühlingsspaziergang!Wir sind gemütlich auf der Donaulände unterwegs\, und wärmen uns danach bei ein paar Runden Uno im Ann and Pat auf. \n\n\n\nBei Schlechtwetter machen wir einen Spieleabend im Ann and Pat. \n\n\n\nTreffpunkt ist am 17.03. um 18:00 im Jugendzentrum Ann and Pat. \n\n\n\nWer neu ist kann sich gern melden und z.B. am Hauptplatz abgeholt werden. \n\n\n\n🖤❤️🧡💛💚💙💜Achtung: bei allen YOUnited Treffen gilt ein Konsumverbot von (legalen sowie illegalen) bewusstseinsverändernden Substanzen.🖤❤️🧡💛💚💙💜 \n\n\n\nWir freuen uns auf euch!Euer YOUnited Team \n\n\n\n>> English version: \n\n\n\nHey queers! \n\n\n\nIt’s spring\, and we’re enjoying the sun on a spring walk!We’re taking a leisurely walk along the Danube\, and will warm up afterwards by playing Uno at the Ann and Pat. \n\n\n\nIn case the weather is bad\, we will stay at the Ann and Pat and play some games. \n\n\n\nWe are meeting at the youth center Ann and Pat on March 17th at 6pm. \n\n\n\nIf you are new\, you are welcome to contact us and\, for example\, be picked up at the main square. \n\n\n\n🖤❤️🧡💛💚💙💜Attention: a ban on the consumption of (legal and illegal) mind-altering substances applies at all YOUnited meetings.🖤❤️🧡💛💚💙💜 \n\n\n\nWe look forward to you! \n\n\n\nYour YOUnited team
URL:https://younited.cc/event/fruehlingsspaziergang/
LOCATION:ann and pat\, Lederergasse 7\, Linz\, 4020
CATEGORIES:linz
ATTACH;FMTTYPE=image/webp:https://younited.cc/app/uploads/2023/03/younited_2023-03-17-fruehlingsspaziergang.webp
END:VEVENT
END:VCALENDAR