BEGIN:VCALENDAR
VERSION:2.0
PRODID:-//younited - ECPv6.15.17.1//NONSGML v1.0//EN
CALSCALE:GREGORIAN
METHOD:PUBLISH
X-WR-CALNAME:younited
X-ORIGINAL-URL:https://younited.cc
X-WR-CALDESC:Veranstaltungen für younited
REFRESH-INTERVAL;VALUE=DURATION:PT1H
X-Robots-Tag:noindex
X-PUBLISHED-TTL:PT1H
BEGIN:VTIMEZONE
TZID:Europe/Vienna
BEGIN:DAYLIGHT
TZOFFSETFROM:+0100
TZOFFSETTO:+0200
TZNAME:CEST
DTSTART:20220327T010000
END:DAYLIGHT
BEGIN:STANDARD
TZOFFSETFROM:+0200
TZOFFSETTO:+0100
TZNAME:CET
DTSTART:20221030T010000
END:STANDARD
BEGIN:DAYLIGHT
TZOFFSETFROM:+0100
TZOFFSETTO:+0200
TZNAME:CEST
DTSTART:20230326T010000
END:DAYLIGHT
BEGIN:STANDARD
TZOFFSETFROM:+0200
TZOFFSETTO:+0100
TZNAME:CET
DTSTART:20231029T010000
END:STANDARD
BEGIN:DAYLIGHT
TZOFFSETFROM:+0100
TZOFFSETTO:+0200
TZNAME:CEST
DTSTART:20240331T010000
END:DAYLIGHT
BEGIN:STANDARD
TZOFFSETFROM:+0200
TZOFFSETTO:+0100
TZNAME:CET
DTSTART:20241027T010000
END:STANDARD
END:VTIMEZONE
BEGIN:VEVENT
DTSTART;TZID=Europe/Vienna:20230414T180000
DTEND;TZID=Europe/Vienna:20230414T220000
DTSTAMP:20260424T033738
CREATED:20230406T214439Z
LAST-MODIFIED:20230406T214440Z
UID:264-1681495200-1681509600@younited.cc
SUMMARY:Kreativabend
DESCRIPTION:Wir machen uns die Welt wiedewiede wie sie uns gefällt 🎶 \n\n\n\n🏠 Jugendkulturbox Ann And Pat ⏲️ 14. April 18-22 Uhr \n\n\n\nGlitzer\, Kreiden\, Aquarell und Kugelschreiber auf Leinwand\, buntem Papier\, Karton – alles ist erlaubt! Wir machen dieses Mal bei YOUnited Kunst 🎨👨‍🎨 Und keine Sorge\, das muss nicht „gut“ aussehen\, nur Spaß machen 💃  \n\n\n\nEgal ob ihr Origami faltet\, mit Fingern malt oder mit anderen ein großes\, vielfältiges Kunstwerk schafft\, es wird bunt und wir ignorieren einfach bis zum Schluss\, dass wir das ganze Chaos am Schluss aufräumen müssen 😜 \n\n\n\nWer neu ist kann sich gern melden und z.B. am Hauptplatz abgeholt werden. \n\n\n\n🖤❤️🧡💛💚💙💜Achtung: bei allen YOUnited Treffen gilt ein Konsumverbot von (legalen sowie illegalen) bewusstseinsverändernden Substanzen.🖤❤️🧡💛💚💙💜 \n\n\n\nWir freuen uns auf euch! \n\n\n\n>>> English version: \n\n\n\nWe make the world as we like 🎶 \n\n\n\n🏠 Youth center Ann And Pat ⏲️ April 14th 6 – 10pm \n\n\n\nGlitter\, chalk\, watercolor\, and ballpoint pen on canvas\, color paper or cardboard – everything is allowed! This time at YOUnited\, we’re making art 🎨👨‍🎨 and don’t worry\, it doesn’t have to look good\, as long as we’re having fun 💃 \n\n\n\nNo matter if you’re folding Origami\, are painting with your fingers\, or creating a big\, complex piece as a group\, it will be colorful and we’ll ignore the fact that we’ll have to clean up all this chaos until the very end 😜 \n\n\n\nIf you are new\, you are welcome to contact us and\, for example\, be picked up at the main square. \n\n\n\n🖤❤️🧡💛💚💙💜Attention: a ban on the consumption of (legal and illegal) mind-altering substances applies at all YOUnited meetings.🖤❤️🧡💛💚💙💜 \n\n\n\nWe look forward to you! \n\n\n\nYour YOUnited team
URL:https://younited.cc/event/kreativabend/
LOCATION:ann and pat\, Lederergasse 7\, Linz\, 4020
CATEGORIES:linz
ATTACH;FMTTYPE=image/jpeg:https://younited.cc/app/uploads/2023/04/FB_IMG_1680817421379.jpg
END:VEVENT
END:VCALENDAR