BEGIN:VCALENDAR
VERSION:2.0
PRODID:-//younited - ECPv6.15.17.1//NONSGML v1.0//EN
CALSCALE:GREGORIAN
METHOD:PUBLISH
X-WR-CALNAME:younited
X-ORIGINAL-URL:https://younited.cc
X-WR-CALDESC:Veranstaltungen für younited
REFRESH-INTERVAL;VALUE=DURATION:PT1H
X-Robots-Tag:noindex
X-PUBLISHED-TTL:PT1H
BEGIN:VTIMEZONE
TZID:Europe/Vienna
BEGIN:DAYLIGHT
TZOFFSETFROM:+0100
TZOFFSETTO:+0200
TZNAME:CEST
DTSTART:20220327T010000
END:DAYLIGHT
BEGIN:STANDARD
TZOFFSETFROM:+0200
TZOFFSETTO:+0100
TZNAME:CET
DTSTART:20221030T010000
END:STANDARD
BEGIN:DAYLIGHT
TZOFFSETFROM:+0100
TZOFFSETTO:+0200
TZNAME:CEST
DTSTART:20230326T010000
END:DAYLIGHT
BEGIN:STANDARD
TZOFFSETFROM:+0200
TZOFFSETTO:+0100
TZNAME:CET
DTSTART:20231029T010000
END:STANDARD
BEGIN:DAYLIGHT
TZOFFSETFROM:+0100
TZOFFSETTO:+0200
TZNAME:CEST
DTSTART:20240331T010000
END:DAYLIGHT
BEGIN:STANDARD
TZOFFSETFROM:+0200
TZOFFSETTO:+0100
TZNAME:CET
DTSTART:20241027T010000
END:STANDARD
END:VTIMEZONE
BEGIN:VEVENT
DTSTART;TZID=Europe/Vienna:20230428T180000
DTEND;TZID=Europe/Vienna:20230428T220000
DTSTAMP:20260424T033738
CREATED:20230423T201522Z
LAST-MODIFIED:20230423T201522Z
UID:296-1682704800-1682719200@younited.cc
SUMMARY:Workshop Inter*
DESCRIPTION:Hey Queers! \n\n\n\nDieses Mal kommt Magdalena von der Beratungsstelle VARGES und hält einen Workshop zum Thema Inter*. \n\n\n\nVon Inter* oder auch Variationen der Geschlechtsmerkmale (VdG) sprechen wir\, wenn diese nicht klar den Normvorstellungen eines weiblichen oder männlichen Körper entsprechen. Variationen können die Anatomie\, die Hormone und/oder die Chromosomen betreffen und werden oft mit medizinischen Diagnosen benannt. \n\n\n\nTreffpunkt ist am 28.04. um 18:00 im Jugendzentrum Ann and Pat. \n\n\n\nWer neu ist kann sich gern melden und z.B. am Hauptplatz abgeholt werden. \n\n\n\n🖤❤️🧡💛💚💙💜Achtung: bei allen YOUnited Treffen gilt ein Konsumverbot von (legalen sowie illegalen) bewusstseinsverändernden Substanzen.🖤❤️🧡💛💚💙💜 \n\n\n\nWir freuen uns auf euch!Euer YOUnited Team \n\n\n\n>> English version: \n\n\n\nHey queers! \n\n\n\nThis time we will be visited by Magdalena from VARGES\, who will hold a workshop on the topic inter*. \n\n\n\nInter* or variations of sex characteristics is used when sex characteristics do not conform to the normative notions of a male or female body. Variations can affect anatomy\, hormones and/or chromosomes and are often named with medical diagnosis. \n\n\n\nThe workshop will be held in German. \n\n\n\nWe are meeting at the youth center Ann and Pat on April 28th at 6pm. \n\n\n\nIf you are new\, you are welcome to contact us and\, for example\, be picked up at the main square. \n\n\n\n🖤❤️🧡💛💚💙💜Attention: a ban on the consumption of (legal and illegal) mind-altering substances applies at all YOUnited meetings.🖤❤️🧡💛💚💙💜 \n\n\n\nWe look forward to you! \n\n\n\nYour YOUnited team
URL:https://younited.cc/event/workshop-inter/
LOCATION:ann and pat\, Lederergasse 7\, Linz\, 4020
CATEGORIES:linz
ATTACH;FMTTYPE=image/jpeg:https://younited.cc/app/uploads/2022/11/younited_2021-10-01_spieleabend.jpg
END:VEVENT
END:VCALENDAR