BEGIN:VCALENDAR
VERSION:2.0
PRODID:-//younited - ECPv6.15.17.1//NONSGML v1.0//EN
CALSCALE:GREGORIAN
METHOD:PUBLISH
X-ORIGINAL-URL:https://younited.cc
X-WR-CALDESC:Veranstaltungen für younited
REFRESH-INTERVAL;VALUE=DURATION:PT1H
X-Robots-Tag:noindex
X-PUBLISHED-TTL:PT1H
BEGIN:VTIMEZONE
TZID:Europe/Vienna
BEGIN:DAYLIGHT
TZOFFSETFROM:+0100
TZOFFSETTO:+0200
TZNAME:CEST
DTSTART:20220327T010000
END:DAYLIGHT
BEGIN:STANDARD
TZOFFSETFROM:+0200
TZOFFSETTO:+0100
TZNAME:CET
DTSTART:20221030T010000
END:STANDARD
BEGIN:DAYLIGHT
TZOFFSETFROM:+0100
TZOFFSETTO:+0200
TZNAME:CEST
DTSTART:20230326T010000
END:DAYLIGHT
BEGIN:STANDARD
TZOFFSETFROM:+0200
TZOFFSETTO:+0100
TZNAME:CET
DTSTART:20231029T010000
END:STANDARD
BEGIN:DAYLIGHT
TZOFFSETFROM:+0100
TZOFFSETTO:+0200
TZNAME:CEST
DTSTART:20240331T010000
END:DAYLIGHT
BEGIN:STANDARD
TZOFFSETFROM:+0200
TZOFFSETTO:+0100
TZNAME:CET
DTSTART:20241027T010000
END:STANDARD
END:VTIMEZONE
BEGIN:VEVENT
DTSTART;TZID=Europe/Vienna:20230623T180000
DTEND;TZID=Europe/Vienna:20230623T220000
DTSTAMP:20260424T011234
CREATED:20230430T194909Z
LAST-MODIFIED:20230623T151402Z
UID:314-1687543200-1687557600@younited.cc
SUMMARY:YOUnited - Open Air Spieleabend in Linz
DESCRIPTION:Update: \n\n\n\nNachdem es heute leider doch etwas regnerisch ist\, weichen wir ins Ann and Pat aus und treffen uns dort zu einem gemütlichen Spieleabend.Stay Queer! \n\n\n\n>>> \n\n\n\nHey Queers! \n\n\n\nEs ist endlich wieder so weit – wir treffen uns wieder zu einem Outdoor-Spieleabend auf der Donaulände!Wer nicht spielen möchte\, kann natürlich auch einfach sitzen und quatschen.Treffpunkt ist um 18:00 auf der Donaulände im Gras hinter dem Musikpavillion. Bei Schlechtwetter gibts neue Infos. \n\n\n\nDu bist am Dyke March? Kein Problem! Ihr könnt gerne jederzeit nachkommen und den Abend ausklingen lassen. \n\n\n\nWer neu ist oder einfach nicht alleine über die Donaulände will kann sich gern melden und kann z.B. am Hauptplatz abgeholt werden. \n\n\n\nAchtung: bei allen YOUnited Treffen gilt ein Konsumverbot von (legalen sowie illegalen) bewusstseinsverändernden Substanzen. \n\n\n\nWir freuen uns auf euch!Stay Queer! \n\n\n\n>> English version: \n\n\n\nUpdate: \n\n\n\nUnfortunately\, it is a little rainy today\, so we’ll be at the Ann and Pat instead for a chill game night.Stay Queer! \n\n\n\n>>> \n\n\n\nHey Queers! \n\n\n\nIt’s finally time again for an outdoor game evening on the Donaulände!Those that don’t want to play can just sit and chit as well.We’re meeting at 6pm at the Donaulände on the grass right behind the Musikpavillion. If the weather is bad\, we’ll keep you updated. \n\n\n\nAre you at the Dyke March? No problem! You are welcome to come anytime and let the evening fade away. \n\n\n\nAttention: a ban on the consumption of (legal and illegal) mind-altering substances applies at all YOUnited meetings. \n\n\n\nWe look forward to you!Your YOUnited team
URL:https://younited.cc/event/younited-open-air-spieleabend-in-linz/
LOCATION:Donaulände\, Linz\, Kulturmeile\, Linz\, 4020\, Österreich
CATEGORIES:linz
ATTACH;FMTTYPE=image/jpeg:https://younited.cc/app/uploads/2023/04/344111725_1439701519899100_3691861214348965246_n.jpg
END:VEVENT
END:VCALENDAR