BEGIN:VCALENDAR
VERSION:2.0
PRODID:-//younited - ECPv6.15.17.1//NONSGML v1.0//EN
CALSCALE:GREGORIAN
METHOD:PUBLISH
X-ORIGINAL-URL:https://younited.cc
X-WR-CALDESC:Veranstaltungen für younited
REFRESH-INTERVAL;VALUE=DURATION:PT1H
X-Robots-Tag:noindex
X-PUBLISHED-TTL:PT1H
BEGIN:VTIMEZONE
TZID:Europe/Vienna
BEGIN:DAYLIGHT
TZOFFSETFROM:+0100
TZOFFSETTO:+0200
TZNAME:CEST
DTSTART:20220327T010000
END:DAYLIGHT
BEGIN:STANDARD
TZOFFSETFROM:+0200
TZOFFSETTO:+0100
TZNAME:CET
DTSTART:20221030T010000
END:STANDARD
BEGIN:DAYLIGHT
TZOFFSETFROM:+0100
TZOFFSETTO:+0200
TZNAME:CEST
DTSTART:20230326T010000
END:DAYLIGHT
BEGIN:STANDARD
TZOFFSETFROM:+0200
TZOFFSETTO:+0100
TZNAME:CET
DTSTART:20231029T010000
END:STANDARD
BEGIN:DAYLIGHT
TZOFFSETFROM:+0100
TZOFFSETTO:+0200
TZNAME:CEST
DTSTART:20240331T010000
END:DAYLIGHT
BEGIN:STANDARD
TZOFFSETFROM:+0200
TZOFFSETTO:+0100
TZNAME:CET
DTSTART:20241027T010000
END:STANDARD
END:VTIMEZONE
BEGIN:VEVENT
DTSTART;TZID=Europe/Vienna:20230804T180000
DTEND;TZID=Europe/Vienna:20230804T220000
DTSTAMP:20260423T223720
CREATED:20230719T175954Z
LAST-MODIFIED:20230802T201904Z
UID:359-1691172000-1691186400@younited.cc
SUMMARY:YOUnited am Strand - Alternativprogramm
DESCRIPTION:Update: \n\n\n\nHey Queers\, \n\n\n\nLeider schaut das Wetter nicht nach Baden aus. Also treffen wir uns stattdessen im Ann and Pat zu einem gemütlichen Spieleabend. \n\n\n\nWir sehen uns! \n\n\n\n>> English version: \n\n\n\nHey Queers\, \n\n\n\nUnfortunately\, the weather forecast does not bode well for going to the beach. So we’re meeting at Ann and Pat for a chill game evening instead. \n\n\n\nSee you! \n\n\n\n>> Originaltext: \n\n\n\nHey Queers\, \n\n\n\nWir sind am Strand!Wir treffen uns am Donaustrand in Alt-Urfahr um 18:00.Wer will\, kann baden gehen\, oder einfach chillen und Uno spielen  \n\n\n\nBei Schlechtwetter gibts neue Infos. \n\n\n\nWer neu ist oder nicht hinfindet kann sich gern melden und kann z.B. am Hauptplatz abgeholt werden. \n\n\n\nAchtung: bei allen YOUnited Treffen gilt ein Konsumverbot von (legalen sowie illegalen) bewusstseinsverändernden Substanzen. \n\n\n\nWir freuen uns auf euch!Stay Queer!>> English version: \n\n\n\nHey Queers\, \n\n\n\nWe’re on the beach!We’re meeting on the danube beach in Alt-Urfahr at 6pm.Those who want to can swim\, or just chill and play Uno  \n\n\n\nIf the weather is bad\, we’ll keep you updated. \n\n\n\nIf you’re new\, we can also meet you earlier or pick you up at Hauptplatz. \n\n\n\nAttention: a ban on the consumption of (legal and illegal) mind-altering substances applies at all YOUnited meetings. \n\n\n\nWe look forward to you!Your YOUnited team
URL:https://younited.cc/event/younited-am-strand-3/
LOCATION:ann and pat\, Lederergasse 7\, Linz\, 4020
CATEGORIES:linz
ATTACH;FMTTYPE=image/jpeg:https://younited.cc/app/uploads/2023/06/FB_IMG_1687982972961.jpg
END:VEVENT
END:VCALENDAR