BEGIN:VCALENDAR
VERSION:2.0
PRODID:-//younited - ECPv6.15.17.1//NONSGML v1.0//EN
CALSCALE:GREGORIAN
METHOD:PUBLISH
X-ORIGINAL-URL:https://younited.cc
X-WR-CALDESC:Veranstaltungen für younited
REFRESH-INTERVAL;VALUE=DURATION:PT1H
X-Robots-Tag:noindex
X-PUBLISHED-TTL:PT1H
BEGIN:VTIMEZONE
TZID:Europe/Vienna
BEGIN:DAYLIGHT
TZOFFSETFROM:+0100
TZOFFSETTO:+0200
TZNAME:CEST
DTSTART:20220327T010000
END:DAYLIGHT
BEGIN:STANDARD
TZOFFSETFROM:+0200
TZOFFSETTO:+0100
TZNAME:CET
DTSTART:20221030T010000
END:STANDARD
BEGIN:DAYLIGHT
TZOFFSETFROM:+0100
TZOFFSETTO:+0200
TZNAME:CEST
DTSTART:20230326T010000
END:DAYLIGHT
BEGIN:STANDARD
TZOFFSETFROM:+0200
TZOFFSETTO:+0100
TZNAME:CET
DTSTART:20231029T010000
END:STANDARD
BEGIN:DAYLIGHT
TZOFFSETFROM:+0100
TZOFFSETTO:+0200
TZNAME:CEST
DTSTART:20240331T010000
END:DAYLIGHT
BEGIN:STANDARD
TZOFFSETFROM:+0200
TZOFFSETTO:+0100
TZNAME:CET
DTSTART:20241027T010000
END:STANDARD
END:VTIMEZONE
BEGIN:VEVENT
DTSTART;TZID=Europe/Vienna:20231027T180000
DTEND;TZID=Europe/Vienna:20231027T220000
DTSTAMP:20260423T200259
CREATED:20231002T184812Z
LAST-MODIFIED:20231002T185253Z
UID:393-1698429600-1698444000@younited.cc
SUMMARY:YOUnited - Spooknited in Linz
DESCRIPTION:Hey Queers! \n\n\n\nAusnahmsweise ist die Devise bei YOUnited dieses Mal nicht „sei genau so wie du bist“ – außer du bist ein Geist oder eine Fledermaus. Vier Tage vor Halloween treffen wir uns im Jugendzentrum Ann and Pat\, verkleidet\, geschminkt\, strahlend in allen Farben des Regenbogens und eingehüllt in Spinnweben. Du hast Spiele mit Halloween Thema\, passende Musik und die perfekte Kostüm-Idee? Wir freuen uns drauf!Wer sich nicht verkleiden oder sonst etwas mitbringen will ist natürlich genauso willkommen 🙂 \n\n\n\nTreffpunkt ist um 18:00 im Jugendzentrum Ann and Pat. \n\n\n\nWer neu ist kann sich gern melden und z.B. am Hauptplatz abgeholt werden. \n\n\n\nWir freuen uns auf euch!Euer YOUnited Team \n\n\n\n>> English version: \n\n\n\nHey queers! \n\n\n\nFor once\, the motto at this YOUnited meeting is not „be exactly as you are“ – unless of course you are a ghost or perhaps a bat. Four days before Halloween we meet at the Ann and Pat youth center\, dressed up\, made up\, shining in all the colors of the rainbow and wrapped in cobwebs. Do you have games with a Halloween theme\, suitable music and the perfect costume idea? We’re looking forward to it!If you don’t want to dress up or bring anything else with you\, you are of course just as welcome 🙂 \n\n\n\nWe are meeting at the youth center Ann and Pat at 6pm. \n\n\n\nIf you are new\, you are welcome to contact us and\, for example\, be picked up at the main square. \n\n\n\nWe look forward to you! \n\n\n\nYour YOUnited team
URL:https://younited.cc/event/younited-spooknited-in-linz-2/
LOCATION:ann and pat\, Lederergasse 7\, Linz\, 4020
CATEGORIES:linz
ATTACH;FMTTYPE=image/jpeg:https://younited.cc/app/uploads/2022/10/younited_2022-09-30-werwolf.jpeg
END:VEVENT
END:VCALENDAR