BEGIN:VCALENDAR
VERSION:2.0
PRODID:-//younited - ECPv6.15.17.1//NONSGML v1.0//EN
CALSCALE:GREGORIAN
METHOD:PUBLISH
X-WR-CALNAME:younited
X-ORIGINAL-URL:https://younited.cc
X-WR-CALDESC:Veranstaltungen für younited
REFRESH-INTERVAL;VALUE=DURATION:PT1H
X-Robots-Tag:noindex
X-PUBLISHED-TTL:PT1H
BEGIN:VTIMEZONE
TZID:Europe/Vienna
BEGIN:DAYLIGHT
TZOFFSETFROM:+0100
TZOFFSETTO:+0200
TZNAME:CEST
DTSTART:20240331T010000
END:DAYLIGHT
BEGIN:STANDARD
TZOFFSETFROM:+0200
TZOFFSETTO:+0100
TZNAME:CET
DTSTART:20241027T010000
END:STANDARD
BEGIN:DAYLIGHT
TZOFFSETFROM:+0100
TZOFFSETTO:+0200
TZNAME:CEST
DTSTART:20250330T010000
END:DAYLIGHT
BEGIN:STANDARD
TZOFFSETFROM:+0200
TZOFFSETTO:+0100
TZNAME:CET
DTSTART:20251026T010000
END:STANDARD
BEGIN:DAYLIGHT
TZOFFSETFROM:+0100
TZOFFSETTO:+0200
TZNAME:CEST
DTSTART:20260329T010000
END:DAYLIGHT
BEGIN:STANDARD
TZOFFSETFROM:+0200
TZOFFSETTO:+0100
TZNAME:CET
DTSTART:20261025T010000
END:STANDARD
END:VTIMEZONE
BEGIN:VEVENT
DTSTART;TZID=Europe/Vienna:20250411T180000
DTEND;TZID=Europe/Vienna:20250411T220000
DTSTAMP:20260422T161509
CREATED:20250328T210235Z
LAST-MODIFIED:20250403T085119Z
UID:689-1744394400-1744408800@younited.cc
SUMMARY:Frühlingsspaziergang
DESCRIPTION:Hey Queers!Es ist wieder Frühling\, und wir genießen die warme Sonne bei einem Frühlingsspaziergang!Wir sind gemütlich auf der Donaulände unterwegs\, und wärmen uns danach bei ein paar Runden Uno im Ann and Pat auf.Bei Schlechtwetter machen wir einen Spieleabend im Ann and Pat.Treffpunkt ist am 11.04. um 18:00 im Jugendzentrum Ann and Pat.Wer neu ist kann sich gern melden und z.B. am Hauptplatz abgeholt werden.Wir freuen uns auf euch!Euer younited – young and queer Team>> English version:Hey queers!It’s spring\, and we’re enjoying the sun on a spring walk!We’re taking a leisurely walk along the Danube\, and will warm up afterwards by playing Uno at the Ann and Pat.In case the weather is bad\, we will stay at the Ann and Pat and play some games.We are meeting at the youth center Ann and Pat on April 11th at 6pm.If you are new\, you are welcome to contact us and\, for example\, be picked up at the main square.We look forward to you!Your younited – young and queer team
URL:https://younited.cc/event/fruehlingsspaziergang-2/
LOCATION:ann and pat\, Lederergasse 7\, Linz\, 4020
CATEGORIES:young and queer
ATTACH;FMTTYPE=image/png:https://younited.cc/app/uploads/2025/03/younited-young-and-queer-Instagram-Posts.png
END:VEVENT
END:VCALENDAR