BEGIN:VCALENDAR
VERSION:2.0
PRODID:-//younited - ECPv6.15.17.1//NONSGML v1.0//EN
CALSCALE:GREGORIAN
METHOD:PUBLISH
X-ORIGINAL-URL:https://younited.cc
X-WR-CALDESC:Veranstaltungen für younited
REFRESH-INTERVAL;VALUE=DURATION:PT1H
X-Robots-Tag:noindex
X-PUBLISHED-TTL:PT1H
BEGIN:VTIMEZONE
TZID:Europe/Vienna
BEGIN:DAYLIGHT
TZOFFSETFROM:+0100
TZOFFSETTO:+0200
TZNAME:CEST
DTSTART:20240331T010000
END:DAYLIGHT
BEGIN:STANDARD
TZOFFSETFROM:+0200
TZOFFSETTO:+0100
TZNAME:CET
DTSTART:20241027T010000
END:STANDARD
BEGIN:DAYLIGHT
TZOFFSETFROM:+0100
TZOFFSETTO:+0200
TZNAME:CEST
DTSTART:20250330T010000
END:DAYLIGHT
BEGIN:STANDARD
TZOFFSETFROM:+0200
TZOFFSETTO:+0100
TZNAME:CET
DTSTART:20251026T010000
END:STANDARD
BEGIN:DAYLIGHT
TZOFFSETFROM:+0100
TZOFFSETTO:+0200
TZNAME:CEST
DTSTART:20260329T010000
END:DAYLIGHT
BEGIN:STANDARD
TZOFFSETFROM:+0200
TZOFFSETTO:+0100
TZNAME:CET
DTSTART:20261025T010000
END:STANDARD
END:VTIMEZONE
BEGIN:VEVENT
DTSTART;TZID=Europe/Vienna:20250704T180000
DTEND;TZID=Europe/Vienna:20250704T220000
DTSTAMP:20260422T183558
CREATED:20250623T071324Z
LAST-MODIFIED:20250623T071324Z
UID:979-1751652000-1751666400@younited.cc
SUMMARY:Open Air Spieleabend
DESCRIPTION:Hey Queers! \n\n\n\nwir treffen uns wieder zu einem Outdoor-Spieleabend auf der Donaulände!Wer nicht spielen möchte\, kann natürlich auch einfach sitzen und quatschen. \n\n\n\nPacke dir eine Picknickdecke ein und nimm dir was zum Trinken mit. \n\n\n\nBei Schlechtwetter folgen Infos zum Alternativprogramm.Wir treffen uns hinterm Musikpavillion auf der Donaulände ab 18:00.Willkommen sind alle zwischen 14 und 25 Jahren. \n\n\n\nWer neu ist kann sich gern melden und z.B. am Hauptplatz abgeholt werden. \n\n\n\nWir freuen uns auf euch!Euer younited – young and queer Team
URL:https://younited.cc/event/open-air-spieleabend-2/
LOCATION:Donaulände\, Linz\, Kulturmeile\, Linz\, 4020\, Österreich
CATEGORIES:linz,young and queer
ATTACH;FMTTYPE=image/png:https://younited.cc/app/uploads/2025/06/younited-outdoor-2025-07-1.png
END:VEVENT
END:VCALENDAR