BEGIN:VCALENDAR
VERSION:2.0
PRODID:-//younited - ECPv6.15.17.1//NONSGML v1.0//EN
CALSCALE:GREGORIAN
METHOD:PUBLISH
X-WR-CALNAME:younited
X-ORIGINAL-URL:https://younited.cc
X-WR-CALDESC:Veranstaltungen für younited
REFRESH-INTERVAL;VALUE=DURATION:PT1H
X-Robots-Tag:noindex
X-PUBLISHED-TTL:PT1H
BEGIN:VTIMEZONE
TZID:Europe/Vienna
BEGIN:DAYLIGHT
TZOFFSETFROM:+0100
TZOFFSETTO:+0200
TZNAME:CEST
DTSTART:20240331T010000
END:DAYLIGHT
BEGIN:STANDARD
TZOFFSETFROM:+0200
TZOFFSETTO:+0100
TZNAME:CET
DTSTART:20241027T010000
END:STANDARD
BEGIN:DAYLIGHT
TZOFFSETFROM:+0100
TZOFFSETTO:+0200
TZNAME:CEST
DTSTART:20250330T010000
END:DAYLIGHT
BEGIN:STANDARD
TZOFFSETFROM:+0200
TZOFFSETTO:+0100
TZNAME:CET
DTSTART:20251026T010000
END:STANDARD
BEGIN:DAYLIGHT
TZOFFSETFROM:+0100
TZOFFSETTO:+0200
TZNAME:CEST
DTSTART:20260329T010000
END:DAYLIGHT
BEGIN:STANDARD
TZOFFSETFROM:+0200
TZOFFSETTO:+0100
TZNAME:CET
DTSTART:20261025T010000
END:STANDARD
END:VTIMEZONE
BEGIN:VEVENT
DTSTART;TZID=Europe/Vienna:20250801T180000
DTEND;TZID=Europe/Vienna:20250801T220000
DTSTAMP:20260422T195949
CREATED:20250723T155107Z
LAST-MODIFIED:20250730T200524Z
UID:1013-1754071200-1754085600@younited.cc
SUMMARY:Queerer Spieleabend
DESCRIPTION:❗️Wichtiges Update:❗️Aufgrund des nassen Wetters treffen wir uns im Ann and Pat. \n\n\n\nWir freuen uns auf euch!Euer younited – young and queer Team \n\n\n\nOriginaltext: \n\n\n\nHey Queers\, \n\n\n\nWir sind am Strand! \n\n\n\nWer will\, kann baden gehen\, oder einfach chillen und Uno spielen.Packe dir eine Picknickdecke ein und nehm dir was zum Trinken mit. \n\n\n\nBei Schlechtwetter folgen Infos zum Alternativprogramm.Wir treffen uns am Donaustrand in Alt-Urfahr ab 18:00.Willkommen sind alle zwischen 14 und 25 Jahren. \n\n\n\nWer neu ist kann sich gern melden und z.B. am Hauptplatz abgeholt werden. \n\n\n\nWir freuen uns auf euch!Euer younited – young and queer Team
URL:https://younited.cc/event/chillen-am-strand-2/
LOCATION:ann and pat\, Lederergasse 7\, Linz\, 4020
CATEGORIES:linz,young and queer
ATTACH;FMTTYPE=image/png:https://younited.cc/app/uploads/2025/07/younited-young-and-queer-2025-08-01-v2-Instagram-Posts.png
END:VEVENT
END:VCALENDAR