BEGIN:VCALENDAR
VERSION:2.0
PRODID:-//younited - ECPv6.15.17.1//NONSGML v1.0//EN
CALSCALE:GREGORIAN
METHOD:PUBLISH
X-WR-CALNAME:younited
X-ORIGINAL-URL:https://younited.cc
X-WR-CALDESC:Veranstaltungen für younited
REFRESH-INTERVAL;VALUE=DURATION:PT1H
X-Robots-Tag:noindex
X-PUBLISHED-TTL:PT1H
BEGIN:VTIMEZONE
TZID:Europe/Vienna
BEGIN:DAYLIGHT
TZOFFSETFROM:+0100
TZOFFSETTO:+0200
TZNAME:CEST
DTSTART:20240331T010000
END:DAYLIGHT
BEGIN:STANDARD
TZOFFSETFROM:+0200
TZOFFSETTO:+0100
TZNAME:CET
DTSTART:20241027T010000
END:STANDARD
BEGIN:DAYLIGHT
TZOFFSETFROM:+0100
TZOFFSETTO:+0200
TZNAME:CEST
DTSTART:20250330T010000
END:DAYLIGHT
BEGIN:STANDARD
TZOFFSETFROM:+0200
TZOFFSETTO:+0100
TZNAME:CET
DTSTART:20251026T010000
END:STANDARD
BEGIN:DAYLIGHT
TZOFFSETFROM:+0100
TZOFFSETTO:+0200
TZNAME:CEST
DTSTART:20260329T010000
END:DAYLIGHT
BEGIN:STANDARD
TZOFFSETFROM:+0200
TZOFFSETTO:+0100
TZNAME:CET
DTSTART:20261025T010000
END:STANDARD
END:VTIMEZONE
BEGIN:VEVENT
DTSTART;TZID=Europe/Vienna:20250815T180000
DTEND;TZID=Europe/Vienna:20250815T220000
DTSTAMP:20260422T212032
CREATED:20250804T091833Z
LAST-MODIFIED:20250804T091945Z
UID:1020-1755280800-1755295200@younited.cc
SUMMARY:Sommerspaziergang
DESCRIPTION:Hey Queers!  \n\n\n\nWir machen einen Sommerspaziergang!  \n\n\n\nWir sind gemütlich auf der Donaulände unterwegs\, bringt eure Badesachen mit\, wer will kann sich dann in der Donau abkühlen!  \n\n\n\nBei Schlechtwetter folgen Infos zum Alternativprogramm.  \n\n\n\nTreffpunkt ist um 18:00 „under the bridge“\, im Areal unter der Neuen Eisenbahnbrücke in Urfahr. Ihr kommt am besten mit der Straßenbahn über die Stationen Peuerbachweg oder Linke Brückenstraße\, oder mit dem Bus über die Station Heilhamerweg hin.Wir haben unsere Beachflag dabei\, damit ihr uns leichter findet.Willkommen sind alle zwischen 14 und 25 Jahren.  \n\n\n\nWer neu ist kann sich gern melden und z.B. am Hauptplatz abgeholt werden.  \n\n\n\nWir freuen uns auf euch! Euer younited – young and queer Team 
URL:https://younited.cc/event/sommerspaziergang-2/
LOCATION:under the bridge – Eisenbahnbrücke Urfahr\, Neue Eisenbahnbrücke\, Linz\, 4040\, Austria
CATEGORIES:young and queer
ATTACH;FMTTYPE=image/png:https://younited.cc/app/uploads/2025/08/younited-young-and-queer-2025-08-15-Instagram-Posts.png
END:VEVENT
END:VCALENDAR