BEGIN:VCALENDAR
VERSION:2.0
PRODID:-//younited - ECPv6.15.17.1//NONSGML v1.0//EN
CALSCALE:GREGORIAN
METHOD:PUBLISH
X-WR-CALNAME:younited
X-ORIGINAL-URL:https://younited.cc
X-WR-CALDESC:Veranstaltungen für younited
REFRESH-INTERVAL;VALUE=DURATION:PT1H
X-Robots-Tag:noindex
X-PUBLISHED-TTL:PT1H
BEGIN:VTIMEZONE
TZID:Europe/Vienna
BEGIN:DAYLIGHT
TZOFFSETFROM:+0100
TZOFFSETTO:+0200
TZNAME:CEST
DTSTART:20240331T010000
END:DAYLIGHT
BEGIN:STANDARD
TZOFFSETFROM:+0200
TZOFFSETTO:+0100
TZNAME:CET
DTSTART:20241027T010000
END:STANDARD
BEGIN:DAYLIGHT
TZOFFSETFROM:+0100
TZOFFSETTO:+0200
TZNAME:CEST
DTSTART:20250330T010000
END:DAYLIGHT
BEGIN:STANDARD
TZOFFSETFROM:+0200
TZOFFSETTO:+0100
TZNAME:CET
DTSTART:20251026T010000
END:STANDARD
BEGIN:DAYLIGHT
TZOFFSETFROM:+0100
TZOFFSETTO:+0200
TZNAME:CEST
DTSTART:20260329T010000
END:DAYLIGHT
BEGIN:STANDARD
TZOFFSETFROM:+0200
TZOFFSETTO:+0100
TZNAME:CET
DTSTART:20261025T010000
END:STANDARD
END:VTIMEZONE
BEGIN:VEVENT
DTSTART;TZID=Europe/Vienna:20250828T183000
DTEND;TZID=Europe/Vienna:20250828T203000
DTSTAMP:20260422T211919
CREATED:20250817T141217Z
LAST-MODIFIED:20250817T141659Z
UID:1038-1756405800-1756413000@younited.cc
SUMMARY:Queere Häkelrunde
DESCRIPTION:Hallo ihr Lieben\,  \n\n\n\nEs gibt einen neuen Plan die Weltherrschaft an uns zu reißen: wir packen sie gemeinsam in Häkelwerk ein! Das will natürlich gelernt sein\, und Zeit dafür braucht man auch. Deshalb (okay\, eigentlich weil es einfach Spaß macht) haben unser Konsti und Kay eine kleine\, feine Häkelrunde ins Leben gerufen\, wo genau das gemacht wird.  \n\n\n\nWo und wann?Graben 3\, 4020 Linz 1. Stock\, Wohnzimmer. Die erste Runde findet am 28. August 2025 von 18:30 bis 20:30 statt. Weitere Termine sind geplant\, aber noch nicht fixiert. Es wird auf jeden Fall welche geben!  \n\n\n\nAnmeldung (mit Info ob du Vorkenntnisse hast) erwünscht\, aber nicht zwingend.  \n\n\n\nWeitere Infos: \n\n\n\nAnfänger\, Fortgeschrittene und Vollprofis sind alle herzlich willkommen. Egal\, ob du lustige kleine Figuren häkeln willst\, Kleidung für dich\, einen <3 Menschen oder den Traktor deiner Nachbarn1\, und auch wenn du es noch gar nicht so recht weißt und Inspiration suchst mal was anderes zu probieren – hier ist eine Gelegenheit\, das in gemütlicher Atmosphäre zusammen mit coolen anderen Häkelbegeisterten zu tun. Bücher mit verschiedensten Patterns in unterschiedlichen Schwierigkeitsgraden liegen auf\, wer gerade noch herausfindet\, wie man so eine Häkelnadel überhaupt in die Hand nimmt\, wird gerne behutsam beim Lernen begleitet.  \n\n\n\nWir achten darauf\, zusätzliche Reize möglichst gering zu halten\, damit konzentriertes Arbeiten nicht durch Lärm\, unnötige Lichtershows oder ständige Ablenkungen erschwert wird. Sollte dir also in dieser Hinsicht irgendwas Probleme bereiten\, sprich es an. Du bist nicht allein 🙂  \n\n\n\nBring wenn möglich bitte deine eigenen Materialien mit. Eine Auswahl Wolle zum Üben und Testen ist vorhanden\, für den Anfang kann man über Leihgaben beim Werkzeug reden. Das wichtigste ist die Motivation\, Weltherrschaftsbestrebungen sind optional.  \n\n\n\nUnter office@younited.cc kannst du Fragen stellen\, die du gern vorab geklärt haben möchtest (z.b. wie wir bei der Reduktion von Barrieren unterstützen können). \n\n\n\nPs: die Welt in Häkelwerk (oder andere Woll- und Garnwerke) einzupacken braucht regelmäßige Treffen. Wenn du diesmal nicht dabei sein kannst\, teile uns gerne die Gründe mit. Wir werden es mit der zukünftigen Planung verstricken und verknüpfen.   \n\n\n\n1) für unglückliche Traktoren übernehmen wir aber keine Haftung. 
URL:https://younited.cc/event/queere-haekelrunde/
LOCATION:Willy*Fred\, Graben 3\, Linz\, 4020\, Austria
ATTACH;FMTTYPE=image/png:https://younited.cc/app/uploads/2025/08/haekelrunde-post.png
END:VEVENT
END:VCALENDAR