BEGIN:VCALENDAR
VERSION:2.0
PRODID:-//younited - ECPv6.15.17.1//NONSGML v1.0//EN
CALSCALE:GREGORIAN
METHOD:PUBLISH
X-WR-CALNAME:younited
X-ORIGINAL-URL:https://younited.cc
X-WR-CALDESC:Veranstaltungen für younited
REFRESH-INTERVAL;VALUE=DURATION:PT1H
X-Robots-Tag:noindex
X-PUBLISHED-TTL:PT1H
BEGIN:VTIMEZONE
TZID:Europe/Vienna
BEGIN:DAYLIGHT
TZOFFSETFROM:+0100
TZOFFSETTO:+0200
TZNAME:CEST
DTSTART:20240331T010000
END:DAYLIGHT
BEGIN:STANDARD
TZOFFSETFROM:+0200
TZOFFSETTO:+0100
TZNAME:CET
DTSTART:20241027T010000
END:STANDARD
BEGIN:DAYLIGHT
TZOFFSETFROM:+0100
TZOFFSETTO:+0200
TZNAME:CEST
DTSTART:20250330T010000
END:DAYLIGHT
BEGIN:STANDARD
TZOFFSETFROM:+0200
TZOFFSETTO:+0100
TZNAME:CET
DTSTART:20251026T010000
END:STANDARD
BEGIN:DAYLIGHT
TZOFFSETFROM:+0100
TZOFFSETTO:+0200
TZNAME:CEST
DTSTART:20260329T010000
END:DAYLIGHT
BEGIN:STANDARD
TZOFFSETFROM:+0200
TZOFFSETTO:+0100
TZNAME:CET
DTSTART:20261025T010000
END:STANDARD
END:VTIMEZONE
BEGIN:VEVENT
DTSTART;TZID=Europe/Vienna:20250829T180000
DTEND;TZID=Europe/Vienna:20250829T220000
DTSTAMP:20260422T211922
CREATED:20250804T093043Z
LAST-MODIFIED:20250829T105153Z
UID:1028-1756490400-1756504800@younited.cc
SUMMARY:Queerer Spieleabend
DESCRIPTION:❗️Wichtiges Update:❗️ \n\n\n\nAufgrund des Wetters werden wir unseren Spieleabend nicht draußen machen. Da das Ann und Pat auf Sommerpause ist treffen wir uns im Willy*Fred. \n\n\n\nTreffpunkt ist ab 18:00 Uhr.Graben 3 (1. OG)\, 4020 Linz \n\n\n\nWir freuen uns auf euch!Euer younited – young and queer Team
URL:https://younited.cc/event/open-air-spieleabend-3/
LOCATION:Willy*Fred\, Graben 3\, Linz\, 4020\, Austria
CATEGORIES:linz,young and queer
END:VEVENT
END:VCALENDAR