BEGIN:VCALENDAR
VERSION:2.0
PRODID:-//younited - ECPv6.15.17.1//NONSGML v1.0//EN
CALSCALE:GREGORIAN
METHOD:PUBLISH
X-WR-CALNAME:younited
X-ORIGINAL-URL:https://younited.cc
X-WR-CALDESC:Veranstaltungen für younited
REFRESH-INTERVAL;VALUE=DURATION:PT1H
X-Robots-Tag:noindex
X-PUBLISHED-TTL:PT1H
BEGIN:VTIMEZONE
TZID:Europe/Vienna
BEGIN:DAYLIGHT
TZOFFSETFROM:+0100
TZOFFSETTO:+0200
TZNAME:CEST
DTSTART:20240331T010000
END:DAYLIGHT
BEGIN:STANDARD
TZOFFSETFROM:+0200
TZOFFSETTO:+0100
TZNAME:CET
DTSTART:20241027T010000
END:STANDARD
BEGIN:DAYLIGHT
TZOFFSETFROM:+0100
TZOFFSETTO:+0200
TZNAME:CEST
DTSTART:20250330T010000
END:DAYLIGHT
BEGIN:STANDARD
TZOFFSETFROM:+0200
TZOFFSETTO:+0100
TZNAME:CET
DTSTART:20251026T010000
END:STANDARD
BEGIN:DAYLIGHT
TZOFFSETFROM:+0100
TZOFFSETTO:+0200
TZNAME:CEST
DTSTART:20260329T010000
END:DAYLIGHT
BEGIN:STANDARD
TZOFFSETFROM:+0200
TZOFFSETTO:+0100
TZNAME:CET
DTSTART:20261025T010000
END:STANDARD
END:VTIMEZONE
BEGIN:VEVENT
DTSTART;TZID=Europe/Vienna:20250919T180000
DTEND;TZID=Europe/Vienna:20250919T220000
DTSTAMP:20260422T223102
CREATED:20250828T112555Z
LAST-MODIFIED:20260416T131902Z
UID:1053-1758304800-1758319200@younited.cc
SUMMARY:Offener Abend bei younited
DESCRIPTION:Lust auf neue Leute\, gute Gespräche und eine entspannte Zeit in queerer Gesellschaft? Dann komm zu unserem offenen Abend!  \n\n\n\nHier kannst du: ✨ neue Leute kennenlernen ✨ dich mit anderen über aktuelle Themen austauschen ✨ eigene Ideen in den Verein einbringen ✨ einfach gemütlich abhängen  \n\n\n\nDer offene Abend ist ein Treffpunkt für alle – egal ob du schon Teil unserer Gruppen bist oder einfach mal vorbeischauen möchtest.  \n\n\n\n📍 Wann & Wo? Alle zwei Monate\, freitags in Linz. Die Termine und Treffpunkte findest du im Terminkalender.  \n\n\n\n💡 Keine Anmeldung nötig – komm einfach vorbei\, wann es dir passt. Es gibt Snacks und Spiele\, und wenn du magst\, bring gerne selbst etwas mit.  \n\n\n\nWir freuen uns auf dich! 💜  \n\n\n\nDein younited – Team 
URL:https://younited.cc/event/offener-abend/
LOCATION:Willy*Fred\, Graben 3\, Linz\, 4020\, Austria
CATEGORIES:Offener Abend
ATTACH;FMTTYPE=image/png:https://younited.cc/app/uploads/2025/08/younited-young-and-queer-Instagram-Posts-2.png
END:VEVENT
END:VCALENDAR