BEGIN:VCALENDAR
VERSION:2.0
PRODID:-//younited - ECPv6.15.17.1//NONSGML v1.0//EN
CALSCALE:GREGORIAN
METHOD:PUBLISH
X-ORIGINAL-URL:https://younited.cc
X-WR-CALDESC:Veranstaltungen für younited
REFRESH-INTERVAL;VALUE=DURATION:PT1H
X-Robots-Tag:noindex
X-PUBLISHED-TTL:PT1H
BEGIN:VTIMEZONE
TZID:Europe/Vienna
BEGIN:DAYLIGHT
TZOFFSETFROM:+0100
TZOFFSETTO:+0200
TZNAME:CEST
DTSTART:20240331T010000
END:DAYLIGHT
BEGIN:STANDARD
TZOFFSETFROM:+0200
TZOFFSETTO:+0100
TZNAME:CET
DTSTART:20241027T010000
END:STANDARD
BEGIN:DAYLIGHT
TZOFFSETFROM:+0100
TZOFFSETTO:+0200
TZNAME:CEST
DTSTART:20250330T010000
END:DAYLIGHT
BEGIN:STANDARD
TZOFFSETFROM:+0200
TZOFFSETTO:+0100
TZNAME:CET
DTSTART:20251026T010000
END:STANDARD
BEGIN:DAYLIGHT
TZOFFSETFROM:+0100
TZOFFSETTO:+0200
TZNAME:CEST
DTSTART:20260329T010000
END:DAYLIGHT
BEGIN:STANDARD
TZOFFSETFROM:+0200
TZOFFSETTO:+0100
TZNAME:CET
DTSTART:20261025T010000
END:STANDARD
END:VTIMEZONE
BEGIN:VEVENT
DTSTART;TZID=Europe/Vienna:20250926T180000
DTEND;TZID=Europe/Vienna:20250926T220000
DTSTAMP:20260422T223338
CREATED:20250905T205227Z
LAST-MODIFIED:20250905T205953Z
UID:1093-1758909600-1758924000@younited.cc
SUMMARY:Queerer Kreativabend
DESCRIPTION:Hey Queers!Wir treffen uns diesmal zu einem Kreativabend im Ann und Pat!  \n\n\n\nOb malen\, basteln\, Origami falten oder mit anderen ein großes\, vielfältiges Kunstwerk schaffen\, es wird bunt und wir ignorieren einfach bis zum Schluss\, dass wir das ganze Chaos am Schluss aufräumen müssen.Treffpunkt ist ab 18:00 im Jugendzentrum Ann and Pat. \n\n\n\nWillkommen sind alle zwischen 14 und 25 Jahren.Wer neu ist kann sich gern melden und z.B. am Hauptplatz abgeholt werden. \n\n\n\nWir freuen uns auf euch!Euer younited – young and queer Team
URL:https://younited.cc/event/queerer-kreativabend-2/
LOCATION:ann and pat\, Lederergasse 7\, Linz\, 4020
CATEGORIES:linz,young and queer
ATTACH;FMTTYPE=image/png:https://younited.cc/app/uploads/2025/09/26_09_2025.png
END:VEVENT
END:VCALENDAR