BEGIN:VCALENDAR
VERSION:2.0
PRODID:-//younited - ECPv6.15.17.1//NONSGML v1.0//EN
CALSCALE:GREGORIAN
METHOD:PUBLISH
X-WR-CALNAME:younited
X-ORIGINAL-URL:https://younited.cc
X-WR-CALDESC:Veranstaltungen für younited
REFRESH-INTERVAL;VALUE=DURATION:PT1H
X-Robots-Tag:noindex
X-PUBLISHED-TTL:PT1H
BEGIN:VTIMEZONE
TZID:Europe/Vienna
BEGIN:DAYLIGHT
TZOFFSETFROM:+0100
TZOFFSETTO:+0200
TZNAME:CEST
DTSTART:20240331T010000
END:DAYLIGHT
BEGIN:STANDARD
TZOFFSETFROM:+0200
TZOFFSETTO:+0100
TZNAME:CET
DTSTART:20241027T010000
END:STANDARD
BEGIN:DAYLIGHT
TZOFFSETFROM:+0100
TZOFFSETTO:+0200
TZNAME:CEST
DTSTART:20250330T010000
END:DAYLIGHT
BEGIN:STANDARD
TZOFFSETFROM:+0200
TZOFFSETTO:+0100
TZNAME:CET
DTSTART:20251026T010000
END:STANDARD
BEGIN:DAYLIGHT
TZOFFSETFROM:+0100
TZOFFSETTO:+0200
TZNAME:CEST
DTSTART:20260329T010000
END:DAYLIGHT
BEGIN:STANDARD
TZOFFSETFROM:+0200
TZOFFSETTO:+0100
TZNAME:CET
DTSTART:20261025T010000
END:STANDARD
END:VTIMEZONE
BEGIN:VEVENT
DTSTART;TZID=Europe/Vienna:20251024T180000
DTEND;TZID=Europe/Vienna:20251024T220000
DTSTAMP:20260424T103318
CREATED:20251012T104350Z
LAST-MODIFIED:20251012T105044Z
UID:1154-1761328800-1761343200@younited.cc
SUMMARY:Queerer Filmabend
DESCRIPTION:Wir treffen uns am 24. Oktober zu einem Filmabend.Für einen queeren Film und Snacks ist gesorgt\, ihr dürft euch aber gerne selbst welche mitbringen!Treffpunkt ist ab 18:00 im Jugendzentrum Ann and Pat.Willkommen sind alle zwischen 14 und 25 Jahren.Wer neu ist kann sich gern melden und z.B. am Hauptplatz abgeholt werden.Wir freuen uns auf euch!Euer younited – young and queer Team
URL:https://younited.cc/event/queerer-filmabend/
LOCATION:ann and pat\, Lederergasse 7\, Linz\, 4020
CATEGORIES:linz,young and queer
ATTACH;FMTTYPE=image/jpeg:https://younited.cc/app/uploads/2025/10/IMG-20251012-WA0001.jpg
END:VEVENT
END:VCALENDAR