BEGIN:VCALENDAR
VERSION:2.0
PRODID:-//younited - ECPv6.15.17.1//NONSGML v1.0//EN
CALSCALE:GREGORIAN
METHOD:PUBLISH
X-ORIGINAL-URL:https://younited.cc
X-WR-CALDESC:Veranstaltungen für younited
REFRESH-INTERVAL;VALUE=DURATION:PT1H
X-Robots-Tag:noindex
X-PUBLISHED-TTL:PT1H
BEGIN:VTIMEZONE
TZID:Europe/Vienna
BEGIN:DAYLIGHT
TZOFFSETFROM:+0100
TZOFFSETTO:+0200
TZNAME:CEST
DTSTART:20250330T010000
END:DAYLIGHT
BEGIN:STANDARD
TZOFFSETFROM:+0200
TZOFFSETTO:+0100
TZNAME:CET
DTSTART:20251026T010000
END:STANDARD
BEGIN:DAYLIGHT
TZOFFSETFROM:+0100
TZOFFSETTO:+0200
TZNAME:CEST
DTSTART:20260329T010000
END:DAYLIGHT
BEGIN:STANDARD
TZOFFSETFROM:+0200
TZOFFSETTO:+0100
TZNAME:CET
DTSTART:20261025T010000
END:STANDARD
BEGIN:DAYLIGHT
TZOFFSETFROM:+0100
TZOFFSETTO:+0200
TZNAME:CEST
DTSTART:20270328T010000
END:DAYLIGHT
BEGIN:STANDARD
TZOFFSETFROM:+0200
TZOFFSETTO:+0100
TZNAME:CET
DTSTART:20271031T010000
END:STANDARD
END:VTIMEZONE
BEGIN:VEVENT
DTSTART;TZID=Europe/Vienna:20260116T180000
DTEND;TZID=Europe/Vienna:20260116T220000
DTSTAMP:20260424T142713
CREATED:20251221T191735Z
LAST-MODIFIED:20251221T191735Z
UID:1272-1768586400-1768600800@younited.cc
SUMMARY:Winterspaziergang
DESCRIPTION:Hey Queers!Wir machen einen Winterspaziergang! Wir sind gemütlich auf der Donaulände unterwegs\, und wärmen uns danach bei ein paar Runden Uno im Ann and Pat auf.Bei Schlechtwetter folgen Infos zum Alternativprogramm.Treffpunkt ist ab 18:00 im Jugendzentrum Ann and Pat.Willkommen sind alle zwischen 14 und 25 Jahren.Wer neu ist kann sich gern melden und z.B. am Hauptplatz abgeholt werden.Wir freuen uns auf euch!Euer younited – young and queer Team
URL:https://younited.cc/event/winterspaziergang-2/
LOCATION:ann and pat\, Lederergasse 7\, Linz\, 4020
CATEGORIES:linz,young and queer
ATTACH;FMTTYPE=image/jpeg:https://younited.cc/app/uploads/2025/12/younited-young-and-queer-Instagram-Posts-1.jpeg
END:VEVENT
END:VCALENDAR