BEGIN:VCALENDAR
VERSION:2.0
PRODID:-//younited - ECPv6.15.17.1//NONSGML v1.0//EN
CALSCALE:GREGORIAN
METHOD:PUBLISH
X-WR-CALNAME:younited
X-ORIGINAL-URL:https://younited.cc
X-WR-CALDESC:Veranstaltungen für younited
REFRESH-INTERVAL;VALUE=DURATION:PT1H
X-Robots-Tag:noindex
X-PUBLISHED-TTL:PT1H
BEGIN:VTIMEZONE
TZID:Europe/Vienna
BEGIN:DAYLIGHT
TZOFFSETFROM:+0100
TZOFFSETTO:+0200
TZNAME:CEST
DTSTART:20250330T010000
END:DAYLIGHT
BEGIN:STANDARD
TZOFFSETFROM:+0200
TZOFFSETTO:+0100
TZNAME:CET
DTSTART:20251026T010000
END:STANDARD
BEGIN:DAYLIGHT
TZOFFSETFROM:+0100
TZOFFSETTO:+0200
TZNAME:CEST
DTSTART:20260329T010000
END:DAYLIGHT
BEGIN:STANDARD
TZOFFSETFROM:+0200
TZOFFSETTO:+0100
TZNAME:CET
DTSTART:20261025T010000
END:STANDARD
BEGIN:DAYLIGHT
TZOFFSETFROM:+0100
TZOFFSETTO:+0200
TZNAME:CEST
DTSTART:20270328T010000
END:DAYLIGHT
BEGIN:STANDARD
TZOFFSETFROM:+0200
TZOFFSETTO:+0100
TZNAME:CET
DTSTART:20271031T010000
END:STANDARD
END:VTIMEZONE
BEGIN:VEVENT
DTSTART;TZID=Europe/Vienna:20260130T180000
DTEND;TZID=Europe/Vienna:20260130T220000
DTSTAMP:20260424T142447
CREATED:20251221T191945Z
LAST-MODIFIED:20260125T223436Z
UID:1275-1769796000-1769810400@younited.cc
SUMMARY:Workshop zu Sexuellem & Romantischem Konsens
DESCRIPTION:Hey Queers!Zur Abwechslung haben wir einen Workshop der AidsHilfe Oberösterreich zum Thema sexueller/romantischer Konsens.Der Vortrag beginnt um 19 Uhr im Ann und Pat und dauert zirka 1 Stunde.Im Anschluss gibt es eine Diskussionsrunde\, wo gerne Fragen gestellt werden können. Denkt dran: Es gibt keine blöden FragenTreffpunkt ist ab 18:00 im Jugendzentrum Ann and Pat.Willkommen sind alle zwischen 14 und 25 Jahren.Wer neu ist kann sich gern melden und z.B. am Hauptplatz abgeholt werden.Wir freuen uns auf euch!Euer younited – young and queer Team \n\n\n\nAidsHilfe Oberösterreich \n\n\n\nWas ist eigentlich sexueller/romantischer Konsens?
URL:https://younited.cc/event/konsens-workshop-2/
LOCATION:ann and pat\, Lederergasse 7\, Linz\, 4020
CATEGORIES:linz,young and queer
ATTACH;FMTTYPE=image/png:https://younited.cc/app/uploads/2025/12/younited-young-and-queer-2026-01-30-Instagram-Posts.png
END:VEVENT
END:VCALENDAR