BEGIN:VCALENDAR
VERSION:2.0
PRODID:-//younited - ECPv6.15.17.1//NONSGML v1.0//EN
CALSCALE:GREGORIAN
METHOD:PUBLISH
X-ORIGINAL-URL:https://younited.cc
X-WR-CALDESC:Veranstaltungen für younited
REFRESH-INTERVAL;VALUE=DURATION:PT1H
X-Robots-Tag:noindex
X-PUBLISHED-TTL:PT1H
BEGIN:VTIMEZONE
TZID:Europe/Vienna
BEGIN:DAYLIGHT
TZOFFSETFROM:+0100
TZOFFSETTO:+0200
TZNAME:CEST
DTSTART:20250330T010000
END:DAYLIGHT
BEGIN:STANDARD
TZOFFSETFROM:+0200
TZOFFSETTO:+0100
TZNAME:CET
DTSTART:20251026T010000
END:STANDARD
BEGIN:DAYLIGHT
TZOFFSETFROM:+0100
TZOFFSETTO:+0200
TZNAME:CEST
DTSTART:20260329T010000
END:DAYLIGHT
BEGIN:STANDARD
TZOFFSETFROM:+0200
TZOFFSETTO:+0100
TZNAME:CET
DTSTART:20261025T010000
END:STANDARD
BEGIN:DAYLIGHT
TZOFFSETFROM:+0100
TZOFFSETTO:+0200
TZNAME:CEST
DTSTART:20270328T010000
END:DAYLIGHT
BEGIN:STANDARD
TZOFFSETFROM:+0200
TZOFFSETTO:+0100
TZNAME:CET
DTSTART:20271031T010000
END:STANDARD
END:VTIMEZONE
BEGIN:VEVENT
DTSTART;TZID=Europe/Vienna:20260213T180000
DTEND;TZID=Europe/Vienna:20260213T220000
DTSTAMP:20260424T155211
CREATED:20260205T164232Z
LAST-MODIFIED:20260210T144949Z
UID:1387-1771005600-1771020000@younited.cc
SUMMARY:Faschingsparty
DESCRIPTION:Hey Queers!Der Fasching ist bald vorbei\, deshalb feiern wir eine Faschingsparty. Kommt verkleidet und zeigt euch mal von einer bunteren Seite. Auch Krapfen wird es geben\, wir freuen uns darauf. \n\n\n\nTreffpunkt ist ab 18:00 im Jugendzentrum Ann and Pat.Willkommen sind alle zwischen 14 und 25 Jahren. \n\n\n\nWer neu ist kann sich gern melden und z.B. am Hauptplatz abgeholt werden. \n\n\n\nWir freuen uns auf euch! \n\n\n\nEuer younited – young and queer Team
URL:https://younited.cc/event/1387/
LOCATION:ann and pat\, Lederergasse 7\, Linz\, 4020
CATEGORIES:linz,young and queer
ATTACH;FMTTYPE=image/jpeg:https://younited.cc/app/uploads/2026/02/younited-young-and-queer-Instagram-Posts.jpg
END:VEVENT
END:VCALENDAR