BEGIN:VCALENDAR
VERSION:2.0
PRODID:-//younited - ECPv6.15.17.1//NONSGML v1.0//EN
CALSCALE:GREGORIAN
METHOD:PUBLISH
X-ORIGINAL-URL:https://younited.cc
X-WR-CALDESC:Veranstaltungen für younited
REFRESH-INTERVAL;VALUE=DURATION:PT1H
X-Robots-Tag:noindex
X-PUBLISHED-TTL:PT1H
BEGIN:VTIMEZONE
TZID:Europe/Vienna
BEGIN:DAYLIGHT
TZOFFSETFROM:+0100
TZOFFSETTO:+0200
TZNAME:CEST
DTSTART:20250330T010000
END:DAYLIGHT
BEGIN:STANDARD
TZOFFSETFROM:+0200
TZOFFSETTO:+0100
TZNAME:CET
DTSTART:20251026T010000
END:STANDARD
BEGIN:DAYLIGHT
TZOFFSETFROM:+0100
TZOFFSETTO:+0200
TZNAME:CEST
DTSTART:20260329T010000
END:DAYLIGHT
BEGIN:STANDARD
TZOFFSETFROM:+0200
TZOFFSETTO:+0100
TZNAME:CET
DTSTART:20261025T010000
END:STANDARD
BEGIN:DAYLIGHT
TZOFFSETFROM:+0100
TZOFFSETTO:+0200
TZNAME:CEST
DTSTART:20270328T010000
END:DAYLIGHT
BEGIN:STANDARD
TZOFFSETFROM:+0200
TZOFFSETTO:+0100
TZNAME:CET
DTSTART:20271031T010000
END:STANDARD
END:VTIMEZONE
BEGIN:VEVENT
DTSTART;TZID=Europe/Vienna:20260313T180000
DTEND;TZID=Europe/Vienna:20260313T220000
DTSTAMP:20260424T212210
CREATED:20260301T184343Z
LAST-MODIFIED:20260301T184344Z
UID:1417-1773424800-1773439200@younited.cc
SUMMARY:Spieleabend
DESCRIPTION:(English below)  \n\n\n\nHey Queers!Wir treffen uns wieder zu einem Spieleabend im Ann and Pat!Wer nicht spielen möchte\, kann natürlich auch einfach sitzen und quatschen.Treffpunkt ist ab 18:00 im Jugendzentrum Ann and Pat.Willkommen sind alle zwischen 14 und 25 Jahren.Wer neu ist kann sich gern melden und z.B. am Hauptplatz abgeholt werden.Wir freuen uns auf euch!Euer younited – young and queer Team \n\n\n\nEnglish: \n\n\n\nHey queers!We are meeting again for a game evening at Ann and Pat.Those who don’t want to play can also just sit and chat.We are meeting at the youth center Ann and Pat starting at 6pm.If you are new\, you are welcome to contact us and\, for example\, be picked up at the main square.We look forward to you!Your younited – young and queer team
URL:https://younited.cc/event/spieleabend-3/
LOCATION:ann and pat\, Lederergasse 7\, Linz\, 4020
CATEGORIES:linz,young and queer
ATTACH;FMTTYPE=image/png:https://younited.cc/app/uploads/2025/04/younited_2025-04-25-spieleabend-neu.png
END:VEVENT
END:VCALENDAR