BEGIN:VCALENDAR
VERSION:2.0
PRODID:-//younited - ECPv6.15.17.1//NONSGML v1.0//EN
CALSCALE:GREGORIAN
METHOD:PUBLISH
X-WR-CALNAME:younited
X-ORIGINAL-URL:https://younited.cc
X-WR-CALDESC:Veranstaltungen für younited
REFRESH-INTERVAL;VALUE=DURATION:PT1H
X-Robots-Tag:noindex
X-PUBLISHED-TTL:PT1H
BEGIN:VTIMEZONE
TZID:Europe/Vienna
BEGIN:DAYLIGHT
TZOFFSETFROM:+0100
TZOFFSETTO:+0200
TZNAME:CEST
DTSTART:20250330T010000
END:DAYLIGHT
BEGIN:STANDARD
TZOFFSETFROM:+0200
TZOFFSETTO:+0100
TZNAME:CET
DTSTART:20251026T010000
END:STANDARD
BEGIN:DAYLIGHT
TZOFFSETFROM:+0100
TZOFFSETTO:+0200
TZNAME:CEST
DTSTART:20260329T010000
END:DAYLIGHT
BEGIN:STANDARD
TZOFFSETFROM:+0200
TZOFFSETTO:+0100
TZNAME:CET
DTSTART:20261025T010000
END:STANDARD
BEGIN:DAYLIGHT
TZOFFSETFROM:+0100
TZOFFSETTO:+0200
TZNAME:CEST
DTSTART:20270328T010000
END:DAYLIGHT
BEGIN:STANDARD
TZOFFSETFROM:+0200
TZOFFSETTO:+0100
TZNAME:CET
DTSTART:20271031T010000
END:STANDARD
END:VTIMEZONE
BEGIN:VEVENT
DTSTART;TZID=Europe/Vienna:20260327T180000
DTEND;TZID=Europe/Vienna:20260327T220000
DTSTAMP:20260424T171714
CREATED:20260318T115537Z
LAST-MODIFIED:20260325T095755Z
UID:1549-1774634400-1774648800@younited.cc
SUMMARY:Frühlingsspaziergang
DESCRIPTION:Hey Queers!Es ist wieder Frühling\, und wir genießen die warme Sonne bei einem Frühlingsspaziergang!Wir sind gemütlich auf der Donaulände unterwegs\, und wärmen uns danach bei ein paar Runden Uno im Ann and Pat auf.Bei Schlechtwetter folgen Infos zum Alternativprogramm.Treffpunkt ist ab 18:00 im Jugendzentrum Ann and Pat.Willkommen sind alle zwischen 14 und 25 Jahren.Wer neu ist kann sich gern melden und z.B. am Hauptplatz abgeholt werden.Wir freuen uns auf euch!Euer younited – young and queer Team \n\n\n\nHey queers!It’s spring\, and we’re enjoying the sun on a spring walk!We’re taking a leisurely walk along the Danube\, and will warm up afterwards by playing Uno at the Ann and Pat.In case the weather is bad\, we will stay at the Ann and Pat and play some games.We are meeting at the youth center Ann and Pat on April 11th at 6pm.If you are new\, you are welcome to contact us and\, for example\, be picked up at the main square.We look forward to you!Your younited – young and queer team
URL:https://younited.cc/event/fruehlingsspaziergang-3/
LOCATION:ann and pat\, Lederergasse 7\, Linz\, 4020
CATEGORIES:young and queer
ATTACH;FMTTYPE=image/jpeg:https://younited.cc/app/uploads/2026/03/younited-posts-neu-1-1.jpg
END:VEVENT
END:VCALENDAR