BEGIN:VCALENDAR
VERSION:2.0
PRODID:-//younited - ECPv6.15.17.1//NONSGML v1.0//EN
CALSCALE:GREGORIAN
METHOD:PUBLISH
X-ORIGINAL-URL:https://younited.cc
X-WR-CALDESC:Veranstaltungen für younited
REFRESH-INTERVAL;VALUE=DURATION:PT1H
X-Robots-Tag:noindex
X-PUBLISHED-TTL:PT1H
BEGIN:VTIMEZONE
TZID:Europe/Vienna
BEGIN:DAYLIGHT
TZOFFSETFROM:+0100
TZOFFSETTO:+0200
TZNAME:CEST
DTSTART:20250330T010000
END:DAYLIGHT
BEGIN:STANDARD
TZOFFSETFROM:+0200
TZOFFSETTO:+0100
TZNAME:CET
DTSTART:20251026T010000
END:STANDARD
BEGIN:DAYLIGHT
TZOFFSETFROM:+0100
TZOFFSETTO:+0200
TZNAME:CEST
DTSTART:20260329T010000
END:DAYLIGHT
BEGIN:STANDARD
TZOFFSETFROM:+0200
TZOFFSETTO:+0100
TZNAME:CET
DTSTART:20261025T010000
END:STANDARD
BEGIN:DAYLIGHT
TZOFFSETFROM:+0100
TZOFFSETTO:+0200
TZNAME:CEST
DTSTART:20270328T010000
END:DAYLIGHT
BEGIN:STANDARD
TZOFFSETFROM:+0200
TZOFFSETTO:+0100
TZNAME:CET
DTSTART:20271031T010000
END:STANDARD
END:VTIMEZONE
BEGIN:VEVENT
DTSTART;TZID=Europe/Vienna:20260418T140000
DTEND;TZID=Europe/Vienna:20260418T160000
DTSTAMP:20260424T182648
CREATED:20260403T161048Z
LAST-MODIFIED:20260403T161048Z
UID:1650-1776520800-1776528000@younited.cc
SUMMARY:Fotospaziergang
DESCRIPTION:Liebe Freund*innen der Fotokunst\,  \n\n\n\ndas winterliche Grau weicht nun endlich wieder einer frühlingshaften Farbenvielfalt. Das ist doch genau der richtige Anlass für einen gemeinsamen Fotospaziergang! Dieses Mal dreht sich alles darum\, Blüten\, Blumen und blühende Bäume richtig in Szene zu setzen.   \n\n\n\nGrundkenntnisse der Fotografie (z.B. Belichtungsdauer und Blendenzahl) sind von Vorteil\, aber keine Voraussetzung. Auch Anfänger*innen bekommen hier die Möglichkeit sich dieses Wissen anzueignen oder weiter zu verfeinern. Es wird empfohlen einen eigenen Fotoapparat mitzunehmen\, jedoch ist genauso eine Teilnahme mit dem Smartphone möglich.  \n\n\n\nWo? Treffpunkt ist am Linzer Hauptplatz Wann? Samstag\, 18. April 2026 von 14:00 bis etwa 16:00 Uhr.   \n\n\n\nWetterbedingt kann es zu kurzfristigen Abweichungen kommen. Bitte dem Wetter entsprechend kleiden. Die Route des Fotospaziergangs wird mit den Bedürfnissen und Wünschen der Teilnehmenden abgestimmt. Dennoch gilt es zu beachten\, dass wir uns durch eine belebte Altstadt mit Straßenverkehr bewegen.  \n\n\n\nWir freuen uns auf dein Kommen. 
URL:https://younited.cc/event/fotospaziergang-2/
LOCATION:Hauptplatz Linz\, Hauptplatz 1\, Linz\, 4020\, Austria
CATEGORIES:Artis
ATTACH;FMTTYPE=image/jpeg:https://younited.cc/app/uploads/2026/04/younited-posts-neu.jpg
END:VEVENT
END:VCALENDAR