BEGIN:VCALENDAR
VERSION:2.0
PRODID:-//younited - ECPv6.15.17.1//NONSGML v1.0//EN
CALSCALE:GREGORIAN
METHOD:PUBLISH
X-WR-CALNAME:younited
X-ORIGINAL-URL:https://younited.cc
X-WR-CALDESC:Veranstaltungen für younited
REFRESH-INTERVAL;VALUE=DURATION:PT1H
X-Robots-Tag:noindex
X-PUBLISHED-TTL:PT1H
BEGIN:VTIMEZONE
TZID:Europe/Vienna
BEGIN:DAYLIGHT
TZOFFSETFROM:+0100
TZOFFSETTO:+0200
TZNAME:CEST
DTSTART:20250330T010000
END:DAYLIGHT
BEGIN:STANDARD
TZOFFSETFROM:+0200
TZOFFSETTO:+0100
TZNAME:CET
DTSTART:20251026T010000
END:STANDARD
BEGIN:DAYLIGHT
TZOFFSETFROM:+0100
TZOFFSETTO:+0200
TZNAME:CEST
DTSTART:20260329T010000
END:DAYLIGHT
BEGIN:STANDARD
TZOFFSETFROM:+0200
TZOFFSETTO:+0100
TZNAME:CET
DTSTART:20261025T010000
END:STANDARD
BEGIN:DAYLIGHT
TZOFFSETFROM:+0100
TZOFFSETTO:+0200
TZNAME:CEST
DTSTART:20270328T010000
END:DAYLIGHT
BEGIN:STANDARD
TZOFFSETFROM:+0200
TZOFFSETTO:+0100
TZNAME:CET
DTSTART:20271031T010000
END:STANDARD
END:VTIMEZONE
BEGIN:VEVENT
DTSTART;TZID=Europe/Vienna:20260502T131500
DTEND;TZID=Europe/Vienna:20260502T190000
DTSTAMP:20260424T182503
CREATED:20260317T103840Z
LAST-MODIFIED:20260317T103840Z
UID:1542-1777727700-1777748400@younited.cc
SUMMARY:Fimo Figuren und Pride Basteln
DESCRIPTION:Hallo miteinander!  \n\n\n\nDiesmal wird es knetig und perlig bunt bei uns. Die Prides stehen vor der Tür. Rechtzeitig\, bevor der Stress beginnt\, treffen wir uns\, um beim Pride Basteln neues zu lernen\, uns gegenseitig zu inspirieren und Spaß am Gestalten zu haben.  \n\n\n\nUnsere Materialien für diesen Termin sind Modelliermasse (Fimo)\, Bügelperlen und Akrylfarbe.  \n\n\n\nAus Modelliermasse lassen sich kleine Figuren\, Anhänger oder Schmuck formen. Mit Bügelperlen kann man Armbänder fädeln oder Buttons kreieren. Akrylfarbe steht zur weiteren Verzierung deiner Kunstwerke oder zur Gestaltung von Schildern zur Verfügung.  \n\n\n\nAm Ende hast du etwas Neues gelernt\, kannst sogar damit angeben\, dein Kunstwerk bei den Prides präsentieren oder sinnvoll im Alltag nutzen.  \n\n\n\nWo und wann? Samstag\, 02.05.2026 Von 13:15 Uhr (in Abstimmung mit Öffis Fahrplänen) bis spätestens 19 Uhr(komme bitte pünktlich)  \n\n\n\nStandort: Elia Begegnungs- und Seelsorgestelle (Solarcity) Pegasusweg 3\, 4030 Linz  \n\n\n\nDas Elia ist barrierefrei und mit Öffis gut erreichbar. Abfahrt S1 vom HBF Linz um 12:53\, Umstieg beim Bahnhof Ebelsberg auf die Straßenbahn (Linie 2) Richtung Solarcity. Ausstieg Solarcity Zentrum. An der Apotheke vorbei\, auf der anderen Straßenseite befindet sich das Elia.  \n\n\n\nParkplätze vor Ort sind gebührenfrei (begrenzt) vorhanden.  \n\n\n\nMuss ich was mitnehmen?  Es werden alle Materialien\, die ihr zur Verwirklichung eure Kreativität braucht\, bereitgestellt. Du kannst auch gerne eigenes Material mitnehmen\, für dich allein oder zum Teilen.  \n\n\n\nSchutzausrüstung: Besondere Schutzausrüstung wirst du vermutlich nicht brauchen. Empfehlenswert ist es etwas anzuziehen\, das etwas dreckiger werden kann\, wenn du mit den Akrylfarben arbeiten möchtest.  \n\n\n\nVerpflegung: Essen/Snacks bitte selbst mitbringen. Ein Spar liegt gleich nebenan. Wasser und WC ist vor Ort vorhanden.  \n\n\n\nUnkostenbeitrag: 10€ für Vereinsmitglieder                            15€ für nicht Mitglieder  \n\n\n\nAnmeldung:  \n\n\n\nBeim Event kann nur eine begrenzte Anzahl an Personen teilnehmen. Damit wir gut planen können\, bitten wir um eine Anmeldung.   \n\n\n\nAnmeldung und Abmeldung per E-Mail unter: artis@younited.cc  bitte spätestens 3 Tage vorher.  \n\n\n\nWir freuen uns auf dein Kommen! Rufus und Konsti 
URL:https://younited.cc/event/fimo-figuren-und-pride-basteln/
LOCATION:Elia Begegnungs- und Seelsorgestelle\, Pegasusweg 3\, Linz\, 4030\, Austria
CATEGORIES:Artis
ATTACH;FMTTYPE=image/jpeg:https://younited.cc/app/uploads/2026/03/younited-posts-neu.jpg
END:VEVENT
END:VCALENDAR