BEGIN:VCALENDAR
VERSION:2.0
PRODID:-//younited - ECPv6.15.17.1//NONSGML v1.0//EN
CALSCALE:GREGORIAN
METHOD:PUBLISH
X-ORIGINAL-URL:https://younited.cc
X-WR-CALDESC:Veranstaltungen für younited
REFRESH-INTERVAL;VALUE=DURATION:PT1H
X-Robots-Tag:noindex
X-PUBLISHED-TTL:PT1H
BEGIN:VTIMEZONE
TZID:Europe/Vienna
BEGIN:DAYLIGHT
TZOFFSETFROM:+0100
TZOFFSETTO:+0200
TZNAME:CEST
DTSTART:20210328T010000
END:DAYLIGHT
BEGIN:STANDARD
TZOFFSETFROM:+0200
TZOFFSETTO:+0100
TZNAME:CET
DTSTART:20211031T010000
END:STANDARD
BEGIN:DAYLIGHT
TZOFFSETFROM:+0100
TZOFFSETTO:+0200
TZNAME:CEST
DTSTART:20220327T010000
END:DAYLIGHT
BEGIN:STANDARD
TZOFFSETFROM:+0200
TZOFFSETTO:+0100
TZNAME:CET
DTSTART:20221030T010000
END:STANDARD
BEGIN:DAYLIGHT
TZOFFSETFROM:+0100
TZOFFSETTO:+0200
TZNAME:CEST
DTSTART:20230326T010000
END:DAYLIGHT
BEGIN:STANDARD
TZOFFSETFROM:+0200
TZOFFSETTO:+0100
TZNAME:CET
DTSTART:20231029T010000
END:STANDARD
END:VTIMEZONE
BEGIN:VEVENT
DTSTART;TZID=Europe/Vienna:20221209T180000
DTEND;TZID=Europe/Vienna:20221209T220000
DTSTAMP:20260424T073741
CREATED:20221204T162544Z
LAST-MODIFIED:20221204T162604Z
UID:177-1670608800-1670623200@younited.cc
SUMMARY:Watch out Winter!
DESCRIPTION:(English below) \n\n\n\nWatch out\, Winter!The queers are watching you!Bei minus Graden und frostigem Klima hauen wir uns gemeinsam auf die Couch. Zum Snacken & Filmschauen.Ein geistiges Lagerfeuer über dem Regenbogen. Bring your Friends & best Stricksocken. Alkoholfreier Pun(s)ch in your Heart inklusive. \n\n\n\nTreffpunkt: Ann&patDatum: 09.12.Uhrzeit: 18.00 Uhr \n\n\n\nWir freuen uns auf euch!Achtung: bei allen YOUnited Treffen gilt ein Konsumverbot von (legalen sowie illegalen) bewusstseinsverändernden Substanzen. \n\n\n\n>> English version:Watch out Winter!The queers are watching you!In minus degrees and a frosty climate\, we hit the couch together. For snacking & watching movies.A spiritual campfire over the rainbow. Bring your friends & best knitted socks. Non-alcoholic Pun(s)ch in your heart included. \n\n\n\nMeeting point: Ann&patDate: 09.12.Time: 6 p.m \n\n\n\nWe look forward to you!Attention: a ban on the consumption of (legal and illegal) mind-altering substances applies at all YOUnited meetings.
URL:https://younited.cc/event/watch-out-winter-2/
LOCATION:ann and pat\, Lederergasse 7\, Linz\, 4020
CATEGORIES:linz
ATTACH;FMTTYPE=image/jpeg:https://younited.cc/app/uploads/2022/11/318085126_1515514608927486_7883820332947361810_n.jpg
END:VEVENT
BEGIN:VEVENT
DTSTART;TZID=Europe/Vienna:20221216T181500
DTEND;TZID=Europe/Vienna:20221216T213000
DTSTAMP:20260424T073741
CREATED:20221101T183426Z
LAST-MODIFIED:20221203T183741Z
UID:157-1671214500-1671226200@younited.cc
SUMMARY:Weihnachtlicher Spieleabend in Steyr
DESCRIPTION:(English below) \n\n\n\nHey Queers\, \n\n\n\nWir treffen uns am 16.12. um 18:15 im Jugendzentrum Gewölbe für einen gemütlichen weihnachtlichen Spieleabend 🎲🍬Wir freuen uns über Neuzugänge und unsere Stammgäste 🏳️‍🌈 \n\n\n\nWir treffen uns einmal im Monat in Steyr\, die genauen Termine findet ihr wie immer hier. \n\n\n\nSorgen\, dass ihr nicht alleine hinfindet? Kontaktiert uns vorab und wir können uns einen Treffpunkt ausmachen. \n\n\n\nWir freuen uns auf euch! \n\n\n\n🖤❤️🧡💛💚💙💜Achtung: bei allen YOUnited Treffen gilt ein Konsumverbot von (legalen sowie illegalen) bewusstseinsverändernden Substanzen.🖤❤️🧡💛💚💙💜 \n\n\n\n>> English version: \n\n\n\nHey Queers\, \n\n\n\nWe will meet on December 16th at 6:15pm in the youth center Gewölbe for a cozy christmassy game evening 🎲🍬We look forward to newcomers and our regular guests 🏳️‍🌈 \n\n\n\nWe’re meeting up once a month in Steyr. As usual\, you will find the exact dates here. \n\n\n\nWorried that you won’t find us on your own?Contact us in advance and we can meet you elsewhere. \n\n\n\nWe look forward to you! \n\n\n\n🖤❤️🧡💛💚💙💜Attention: a ban on the consumption of (legal and illegal) mind-altering substances applies at all YOUnited meetings.🖤❤️🧡💛💚💙💜
URL:https://younited.cc/event/younited-queerer-spieleabend-in-steyr-2/
LOCATION:Jugendzentrum Gewölbe\, Pfarrgasse 6\, Steyr\, 4400\, Österreich
CATEGORIES:steyr
ATTACH;FMTTYPE=image/jpeg:https://younited.cc/app/uploads/2022/11/younited_2022-11-18_steyr.jpeg
END:VEVENT
BEGIN:VEVENT
DTSTART;TZID=Europe/Vienna:20221223T180000
DTEND;TZID=Europe/Vienna:20221223T220000
DTSTAMP:20260424T073741
CREATED:20221123T204016Z
LAST-MODIFIED:20221123T204019Z
UID:150-1671818400-1671832800@younited.cc
SUMMARY:Weihnachtliches Chillen
DESCRIPTION:Hey Queers! \n\n\n\nWir treffen uns wieder zu einem gemütlichen Weihnachts-Spieleabend im Ann and Pat!Wer nicht spielen möchte\, kann natürlich auch einfach sitzen und quatschen. \n\n\n\nTreffpunkt ist am Freitag dem 23.12. um 18:00 im Jugendzentrum Ann and Pat. \n\n\n\nWer neu ist kann sich gern melden und z.B. am Hauptplatz abgeholt werden. \n\n\n\n🖤❤️🧡💛💚💙💜Achtung: bei allen YOUnited Treffen gilt ein Konsumverbot von (legalen sowie illegalen) bewusstseinsverändernden Substanzen.🖤❤️🧡💛💚💙💜 \n\n\n\nWir freuen uns auf euch!Euer YOUnited Team \n\n\n\n>> English version: \n\n\n\nHey queers! \n\n\n\nWe are meeting again for a chill christmas game evening at Ann and Pat.Those who don’t want to play can also just sit and chat. \n\n\n\nWe are meeting at the youth center Ann and Pat on Friday\, December 23rd at 6pm. \n\n\n\nIf you are new\, you are welcome to contact us and\, for example\, be picked up at the main square. \n\n\n\n🖤❤️🧡💛💚💙💜Attention: a ban on the consumption of (legal and illegal) mind-altering substances applies at all YOUnited meetings.🖤❤️🧡💛💚💙💜 \n\n\n\nWe look forward to you! \n\n\n\nYour YOUnited team
URL:https://younited.cc/event/weihnachtliches-chillen/
LOCATION:ann and pat\, Lederergasse 7\, Linz\, 4020
CATEGORIES:linz
ATTACH;FMTTYPE=image/webp:https://younited.cc/app/uploads/2022/11/younited_2022-12-23-weihnachten.webp
END:VEVENT
END:VCALENDAR