BEGIN:VCALENDAR
VERSION:2.0
PRODID:-//younited - ECPv6.15.17.1//NONSGML v1.0//EN
CALSCALE:GREGORIAN
METHOD:PUBLISH
X-ORIGINAL-URL:https://younited.cc
X-WR-CALDESC:Veranstaltungen für younited
REFRESH-INTERVAL;VALUE=DURATION:PT1H
X-Robots-Tag:noindex
X-PUBLISHED-TTL:PT1H
BEGIN:VTIMEZONE
TZID:Europe/Vienna
BEGIN:DAYLIGHT
TZOFFSETFROM:+0100
TZOFFSETTO:+0200
TZNAME:CEST
DTSTART:20220327T010000
END:DAYLIGHT
BEGIN:STANDARD
TZOFFSETFROM:+0200
TZOFFSETTO:+0100
TZNAME:CET
DTSTART:20221030T010000
END:STANDARD
BEGIN:DAYLIGHT
TZOFFSETFROM:+0100
TZOFFSETTO:+0200
TZNAME:CEST
DTSTART:20230326T010000
END:DAYLIGHT
BEGIN:STANDARD
TZOFFSETFROM:+0200
TZOFFSETTO:+0100
TZNAME:CET
DTSTART:20231029T010000
END:STANDARD
BEGIN:DAYLIGHT
TZOFFSETFROM:+0100
TZOFFSETTO:+0200
TZNAME:CEST
DTSTART:20240331T010000
END:DAYLIGHT
BEGIN:STANDARD
TZOFFSETFROM:+0200
TZOFFSETTO:+0100
TZNAME:CET
DTSTART:20241027T010000
END:STANDARD
END:VTIMEZONE
BEGIN:VEVENT
DTSTART;TZID=Europe/Vienna:20230203T180000
DTEND;TZID=Europe/Vienna:20230203T220000
DTSTAMP:20260424T045830
CREATED:20230109T124104Z
LAST-MODIFIED:20230126T183206Z
UID:187-1675447200-1675461600@younited.cc
SUMMARY:YOUnited - Queerer Spieleabend in Linz
DESCRIPTION:Hey Queers! \n\n\n\nWir treffen uns wieder zu einem Spieleabend im Ann and Pat!Wer nicht spielen möchte\, kann natürlich auch einfach sitzen und quatschen. \n\n\n\nTreffpunkt ist am 03.02. um 18:00 im Jugendzentrum Ann and Pat. \n\n\n\nWer neu ist kann sich gern melden und z.B. am Hauptplatz abgeholt werden. \n\n\n\n🖤❤️🧡💛💚💙💜Achtung: bei allen YOUnited Treffen gilt ein Konsumverbot von (legalen sowie illegalen) bewusstseinsverändernden Substanzen.🖤❤️🧡💛💚💙💜 \n\n\n\nWir freuen uns auf euch!Euer YOUnited Team \n\n\n\n>> English version: \n\n\n\nHey queers! \n\n\n\nWe are meeting again for a game evening at Ann and Pat.Those who don’t want to play can also just sit and chat. \n\n\n\nWe are meeting at the youth center Ann and Pat on February 3rd at 6pm. \n\n\n\nIf you are new\, you are welcome to contact us and\, for example\, be picked up at the main square. \n\n\n\n🖤❤️🧡💛💚💙💜Attention: a ban on the consumption of (legal and illegal) mind-altering substances applies at all YOUnited meetings.🖤❤️🧡💛💚💙💜 \n\n\n\nWe look forward to you! \n\n\n\nYour YOUnited team
URL:https://younited.cc/event/younited-queerer-spieleabend-in-linz-3/
LOCATION:ann and pat\, Lederergasse 7\, Linz\, 4020
CATEGORIES:linz
ATTACH;FMTTYPE=image/jpeg:https://younited.cc/app/uploads/2022/11/younited_2021-10-01_spieleabend.jpg
END:VEVENT
BEGIN:VEVENT
DTSTART;TZID=Europe/Vienna:20230210T190000
DTEND;TZID=Europe/Vienna:20230210T210000
DTSTAMP:20260424T045830
CREATED:20230202T223203Z
LAST-MODIFIED:20230202T223405Z
UID:211-1676055600-1676062800@younited.cc
SUMMARY:Kulinarische Begegnung
DESCRIPTION:(English below) \n\n\n\n🍜🍲🥘🌯Kulinarische Begegnung im Gewölbe Steyr 🥟🥨🥣🌮 \n\n\n\nQueere (Selbst-)Liebe geht durch den Magen 😋YOUnited & Gewölbe Steyr laden ein zur kulinarischen Begegnung am 10. Februar von 19 Uhr bis 21 Uhr ein 💕🤝💕3 tolle Menschen aus unterschiedlichen Ländern werden uns ihre Kultur und kulturellen Leckereien vorstellen und im Anschluss gibt es einen Festsschmaus – natürlich bestehend aus den vorher gekochten kulturellen Spezialitäten 🤤🥧🍛🍱 \n\n\n\nSei dabei und lass es dir schmecken 🥰Natürlich muss niemand etwas essen\, die*der nicht will❣️ \n\n\n\n❣️❣️ Ausnahmsweise gilt für diese Veranstaltung Anmeldepflicht. Eure Daten bleiben dabei natürlich anonym. Anmeldeschluss ist am 8. Februar.❣️❣️ \n\n\n\nHier geht’s zur Anmeldung: \n\n\n\n\n\n  \n\n\n\n Dein Name\n \n \n Deine Email-Adresse\n \n \n Deine Nachricht (optional)\n \n \n      \n \n\n\n\n\n\n\n💗💗💗💗💗💗💗💗💗💗💗💗💗💗💗💗💗💗💗💗💗💗💗💗💗💗💗💗💗💗💗 \n\n\n\nEnglish version: \n\n\n\n🍜🍲🥘🌯 Culinary encounter in the Gewölbe Steyr 🥟🥨🥣🌮 \n\n\n\nQueer (self) love goes through the stomach 😋YOUnited & Gewölbe Steyr invite you to a culinary encounter on February 10th from 7pm to 9pm 💕🤝💕3 great people from different countries will introduce us to their culture and cultural treats. At the end of the night we will feast on the  freshly cooked cultural specialties 🤤🥧🍛🍱 \n\n\n\nJoin us and enjoy to your heart’s content 🥰Of course nobody has to eat anything if they don’t want to❣️ \n\n\n\n❣️❣️ Unlike usually\, registration is mandatory for this event.  Your personal data will of course remain anonymous.  Registration closes on February 8th.❣️❣️ \n\n\n\nRegister here: \n\n\n\n\n\n  \n\n\n\n Your name\n \n \n Your email\n \n \n Your message (optional)
URL:https://younited.cc/event/kulinarische-begegnung/
LOCATION:Jugendzentrum Gewölbe\, Pfarrgasse 6\, Steyr\, 4400\, Österreich
CATEGORIES:steyr
ATTACH;FMTTYPE=image/jpeg:https://younited.cc/app/uploads/2022/11/younited_2022-11-18_steyr.jpeg
END:VEVENT
BEGIN:VEVENT
DTSTART;TZID=Europe/Vienna:20230217T180000
DTEND;TZID=Europe/Vienna:20230217T220000
DTSTAMP:20260424T045830
CREATED:20230212T192453Z
LAST-MODIFIED:20230212T192522Z
UID:223-1676656800-1676671200@younited.cc
SUMMARY:Karaoke Night
DESCRIPTION:Hey Queers! \n\n\n\nSchnappt euch ein Mikrofon\, wir machen eine Karaoke Night!Mit allen Songs die Youtube zu bieten hat rocken wir die Nacht!Wer nicht selber singen will\, kann natürlich auch einfach die Singkünste der anderen genießen oder im Café unten etwas spielen. \n\n\n\nTreffpunkt ist am 17.02. um 18:00 im Jugendzentrum Ann and Pat. \n\n\n\nWer neu ist kann sich gern melden und z.B. am Hauptplatz abgeholt werden. \n\n\n\n🖤❤️🧡💛💚💙💜Achtung: bei allen YOUnited Treffen gilt ein Konsumverbot von (legalen sowie illegalen) bewusstseinsverändernden Substanzen.🖤❤️🧡💛💚💙💜 \n\n\n\nWir freuen uns auf euch!Euer YOUnited Team \n\n\n\n>> English version: \n\n\n\nHey queers! \n\n\n\nGrab a microphone\, we’re having a karaoke night!We’re rocking the night with all songs that youtube has to offer!Those that don’t want to sing themselves kann just enjoy the others‘ talent or play some games downstairs in the café. \n\n\n\nWe are meeting at the youth center Ann and Pat on February 17th at 6pm. \n\n\n\nIf you are new\, you are welcome to contact us and\, for example\, be picked up at the main square. \n\n\n\n🖤❤️🧡💛💚💙💜Attention: a ban on the consumption of (legal and illegal) mind-altering substances applies at all YOUnited meetings.🖤❤️🧡💛💚💙💜 \n\n\n\nWe look forward to you! \n\n\n\nYour YOUnited team
URL:https://younited.cc/event/karaoke-night/
LOCATION:ann and pat\, Lederergasse 7\, Linz\, 4020
CATEGORIES:linz
ATTACH;FMTTYPE=image/webp:https://younited.cc/app/uploads/2023/01/younited_2023-02-17-karaoke.webp
END:VEVENT
END:VCALENDAR