BEGIN:VCALENDAR
VERSION:2.0
PRODID:-//younited - ECPv6.15.17.1//NONSGML v1.0//EN
CALSCALE:GREGORIAN
METHOD:PUBLISH
X-WR-CALNAME:younited
X-ORIGINAL-URL:https://younited.cc
X-WR-CALDESC:Veranstaltungen für younited
REFRESH-INTERVAL;VALUE=DURATION:PT1H
X-Robots-Tag:noindex
X-PUBLISHED-TTL:PT1H
BEGIN:VTIMEZONE
TZID:Europe/Vienna
BEGIN:DAYLIGHT
TZOFFSETFROM:+0100
TZOFFSETTO:+0200
TZNAME:CEST
DTSTART:20220327T010000
END:DAYLIGHT
BEGIN:STANDARD
TZOFFSETFROM:+0200
TZOFFSETTO:+0100
TZNAME:CET
DTSTART:20221030T010000
END:STANDARD
BEGIN:DAYLIGHT
TZOFFSETFROM:+0100
TZOFFSETTO:+0200
TZNAME:CEST
DTSTART:20230326T010000
END:DAYLIGHT
BEGIN:STANDARD
TZOFFSETFROM:+0200
TZOFFSETTO:+0100
TZNAME:CET
DTSTART:20231029T010000
END:STANDARD
BEGIN:DAYLIGHT
TZOFFSETFROM:+0100
TZOFFSETTO:+0200
TZNAME:CEST
DTSTART:20240331T010000
END:DAYLIGHT
BEGIN:STANDARD
TZOFFSETFROM:+0200
TZOFFSETTO:+0100
TZNAME:CET
DTSTART:20241027T010000
END:STANDARD
END:VTIMEZONE
BEGIN:VEVENT
DTSTART;TZID=Europe/Vienna:20230512T180000
DTEND;TZID=Europe/Vienna:20230512T220000
DTSTAMP:20260424T011209
CREATED:20230430T193157Z
LAST-MODIFIED:20230430T193241Z
UID:302-1683914400-1683928800@younited.cc
SUMMARY:YOUnited - Queerer Spieleabend in Linz
DESCRIPTION:Hey Queers! \n\n\n\nWir treffen uns wieder zu einem Spieleabend im Ann and Pat!Wer nicht spielen möchte\, kann natürlich auch einfach sitzen und quatschen. \n\n\n\nTreffpunkt ist am 12.05. um 18:00 im Jugendzentrum Ann and Pat. \n\n\n\nWer neu ist kann sich gern melden und z.B. am Hauptplatz abgeholt werden. \n\n\n\n🖤❤️🧡💛💚💙💜Achtung: bei allen YOUnited Treffen gilt ein Konsumverbot von (legalen sowie illegalen) bewusstseinsverändernden Substanzen.🖤❤️🧡💛💚💙💜 \n\n\n\nWir freuen uns auf euch!Euer YOUnited Team \n\n\n\n>> English version: \n\n\n\nHey queers! \n\n\n\nWe are meeting again for a game evening at Ann and Pat.Those who don’t want to play can also just sit and chat. \n\n\n\nWe are meeting at the youth center Ann and Pat on May 12st at 6pm. \n\n\n\nIf you are new\, you are welcome to contact us and\, for example\, be picked up at the main square. \n\n\n\n🖤❤️🧡💛💚💙💜Attention: a ban on the consumption of (legal and illegal) mind-altering substances applies at all YOUnited meetings.🖤❤️🧡💛💚💙💜 \n\n\n\nWe look forward to you! \n\n\n\nYour YOUnited team
URL:https://younited.cc/event/younited-queerer-spieleabend-in-linz/
LOCATION:ann and pat\, Lederergasse 7\, Linz\, 4020
CATEGORIES:linz
ATTACH;FMTTYPE=image/jpeg:https://younited.cc/app/uploads/2022/11/younited_2021-10-01_spieleabend.jpg
END:VEVENT
BEGIN:VEVENT
DTSTART;TZID=Europe/Vienna:20230519T181500
DTEND;TZID=Europe/Vienna:20230519T214500
DTSTAMP:20260424T011209
CREATED:20230430T193327Z
LAST-MODIFIED:20230430T195121Z
UID:304-1684520100-1684532700@younited.cc
SUMMARY:YOUnited - Queerer Spieleabend in Steyr
DESCRIPTION:(English below) \n\n\n\nEs ist wieder so weit\, YOUnited ist in Steyr!Wir treffen uns am 19.05. um 18:15 im Jugendzentrum Gewölbe für einen gemütlichen Spieleabend 🎲🍬Wir freuen uns über Neuzugänge und unsere Stammgäste 🏳️‍🌈 \n\n\n\nWir treffen uns ab jetzt einmal im Monat in Steyr\, die genauen Termine findet ihr wie immer hier. \n\n\n\nSorgen\, dass ihr nicht alleine hinfindet? Kontaktiert uns vorab und wir können uns einen Treffpunkt ausmachen. \n\n\n\nWir freuen uns auf euch! \n\n\n\n🖤❤️🧡💛💚💙💜Achtung: bei allen YOUnited Treffen gilt ein Konsumverbot von (legalen sowie illegalen) bewusstseinsverändernden Substanzen.🖤❤️🧡💛💚💙💜 \n\n\n\n>> English version: \n\n\n\nIt is time again\, YOUnited is back in Steyr!We will meet on May 19th at 6:15pm in the youth center Gewölbe for a cozy game evening 🎲🍬We look forward to newcomers and our regular guests 🏳️‍🌈 \n\n\n\nFrom now on\, we’ll meet up once a month in Steyr. As usual\, you will find the exact dates here. \n\n\n\nWorried that you won’t find either of those places on your own?Contact us in advance and we can meet you elsewhere. \n\n\n\nWe look forward to you! \n\n\n\n🖤❤️🧡💛💚💙💜Attention: a ban on the consumption of (legal and illegal) mind-altering substances applies at all YOUnited meetings.🖤❤️🧡💛💚💙💜
URL:https://younited.cc/event/younited-queerer-spieleabend-in-steyr-6/
LOCATION:Jugendzentrum Gewölbe\, Pfarrgasse 6\, Steyr\, 4400\, Österreich
CATEGORIES:steyr
ATTACH;FMTTYPE=image/jpeg:https://younited.cc/app/uploads/2022/11/younited_2022-11-18_steyr.jpeg
END:VEVENT
BEGIN:VEVENT
DTSTART;TZID=Europe/Vienna:20230526T180000
DTEND;TZID=Europe/Vienna:20230526T220000
DTSTAMP:20260424T011209
CREATED:20230430T194253Z
LAST-MODIFIED:20230430T195445Z
UID:308-1685124000-1685138400@younited.cc
SUMMARY:YOUnited - Open Air Spieleabend in Linz
DESCRIPTION:Hey Queers! \n\n\n\nEs ist endlich wieder so weit – wir treffen uns wieder zu einem Outdoor-Spieleabend auf der Donaulände!Wer nicht spielen möchte\, kann natürlich auch einfach sitzen und quatschen.Treffpunkt ist um 18:00 auf der Donaulände im Gras hinter dem Musikpavillion. Bei Schlechtwetter gibts neue Infos. \n\n\n\nWer neu ist oder einfach nicht alleine über die Donaulände will kann sich gern melden und kann z.B. am Hauptplatz abgeholt werden. \n\n\n\nAchtung: bei allen YOUnited Treffen gilt ein Konsumverbot von (legalen sowie illegalen) bewusstseinsverändernden Substanzen. \n\n\n\nWir freuen uns auf euch!Stay Queer! \n\n\n\n>> English version: \n\n\n\nHey Queers! \n\n\n\nIt’s finally time again for an outdoor game evening on the Donaulände!Those that don’t want to play can just sit and chit as well.We’re meeting at 6pm at the Donaulände on the grass right behind the Musikpavillion. If the weather is bad\, we’ll keep you updated. \n\n\n\nAttention: a ban on the consumption of (legal and illegal) mind-altering substances applies at all YOUnited meetings. \n\n\n\nWe look forward to you!Your YOUnited team
URL:https://younited.cc/event/younited-open-air-spieleabend/
LOCATION:Donaulände\, Linz\, Kulturmeile\, Linz\, 4020\, Österreich
CATEGORIES:linz
ATTACH;FMTTYPE=image/jpeg:https://younited.cc/app/uploads/2023/04/344111725_1439701519899100_3691861214348965246_n.jpg
END:VEVENT
END:VCALENDAR