BEGIN:VCALENDAR
VERSION:2.0
PRODID:-//younited - ECPv6.15.17.1//NONSGML v1.0//EN
CALSCALE:GREGORIAN
METHOD:PUBLISH
X-ORIGINAL-URL:https://younited.cc
X-WR-CALDESC:Veranstaltungen für younited
REFRESH-INTERVAL;VALUE=DURATION:PT1H
X-Robots-Tag:noindex
X-PUBLISHED-TTL:PT1H
BEGIN:VTIMEZONE
TZID:Europe/Vienna
BEGIN:DAYLIGHT
TZOFFSETFROM:+0100
TZOFFSETTO:+0200
TZNAME:CEST
DTSTART:20220327T010000
END:DAYLIGHT
BEGIN:STANDARD
TZOFFSETFROM:+0200
TZOFFSETTO:+0100
TZNAME:CET
DTSTART:20221030T010000
END:STANDARD
BEGIN:DAYLIGHT
TZOFFSETFROM:+0100
TZOFFSETTO:+0200
TZNAME:CEST
DTSTART:20230326T010000
END:DAYLIGHT
BEGIN:STANDARD
TZOFFSETFROM:+0200
TZOFFSETTO:+0100
TZNAME:CET
DTSTART:20231029T010000
END:STANDARD
BEGIN:DAYLIGHT
TZOFFSETFROM:+0100
TZOFFSETTO:+0200
TZNAME:CEST
DTSTART:20240331T010000
END:DAYLIGHT
BEGIN:STANDARD
TZOFFSETFROM:+0200
TZOFFSETTO:+0100
TZNAME:CET
DTSTART:20241027T010000
END:STANDARD
END:VTIMEZONE
BEGIN:VEVENT
DTSTART;TZID=Europe/Vienna:20230901T180000
DTEND;TZID=Europe/Vienna:20230901T210000
DTSTAMP:20260423T200416
CREATED:20230822T175249Z
LAST-MODIFIED:20230822T184329Z
UID:374-1693591200-1693602000@younited.cc
SUMMARY:STIs\, Impfunden & HPV
DESCRIPTION:Hey Queers! \n\n\n\nZur Abwechslung besuchen wir diesmal einen Infoabend der AidsHilfe Oberösterreich. \n\n\n\nKIKI – next generation HOSI organisiert einen Vortrag zum Thema STIs (sexuell übertragbare Krankheiten)\, AIDS & HPV (Humane Papillomaviren) speziell für junge Personen unter 25. Im Anschluss gibt es eine Diskussionsrunde\, wo gerne Fragen gestellt werden können. Denkt dran: Es gibt keine blöden Fragen 🙂 \n\n\n\nWann? 01. September\, 18 Uhr bis 21 Uhr\, Beginn Vortrag 19 Uhr ca. 1 StundeWo? Queer Bar fortynine (Schillerstraße 49\, 4020 Linz)Vortragenden: Mag. Birgit Leichsenring\, Dr. Matthias Skocickeine Anmeldung erforderlich \n\n\n\nWir freuen uns auf einen interessanten Abend mit euch!Euer YOUnited-Team \n\n\n\n>> English version: \n\n\n\nHey queers!For a change\, this time we’re going to an information evening organized by the AidsHilfe Oberösterreich.KIKI – next generation HOSI organizes a lecture on the subject of STIs (sexually transmitted diseases)\, AIDS & HPV (human papillomaviruses) especially for young people under 25. There will then be a discussion round where questions can be asked. Remember: There are no stupid questions 🙂When? 01 September\, 6 p.m. to 9 p.m.\, lecture begins at 7 p.m.\, approx. 1 hourWhere? Queer Bar fortynine (Schillerstrasse 49\, 4020 Linz)Lecturers: Mag. Birgit Leichsenring\, Dr. Matthew Skocicno registration needed \n\n\n\nAttention: The Lecture will be done in German! \n\n\n\nWe look forward to an interesting evening with you!Your YOUnited team
URL:https://younited.cc/event/aidshilfe/
LOCATION:Queer Bar forty nine\, Schillerstraße 49\, Linz\, 4020
CATEGORIES:linz
ATTACH;FMTTYPE=image/jpeg:https://younited.cc/app/uploads/2023/08/368195965_250011281320023_1640618182235584531_n.jpg
END:VEVENT
BEGIN:VEVENT
DTSTART;TZID=Europe/Vienna:20230915T180000
DTEND;TZID=Europe/Vienna:20230915T220000
DTSTAMP:20260423T200416
CREATED:20230822T180439Z
LAST-MODIFIED:20230822T183909Z
UID:376-1694800800-1694815200@younited.cc
SUMMARY:YOUnited - Open Air Spieleabend in Linz
DESCRIPTION:Hey Queers! \n\n\n\nwir treffen uns wieder zu einem Outdoor-Spieleabend auf der Donaulände!Wer nicht spielen möchte\, kann natürlich auch einfach sitzen und quatschen.Treffpunkt ist um 18:00 auf der Donaulände im Gras hinter dem Musikpavillion. Bei Schlechtwetter gibts neue Infos. \n\n\n\nWer neu ist oder einfach nicht alleine über die Donaulände will kann sich gern melden und kann z.B. am Hauptplatz abgeholt werden. \n\n\n\nWir freuen uns auf euch!Stay Queer! \n\n\n\n \n\n\n\n>> English version: \n\n\n\nHey Queers! \n\n\n\nWe meet again for an outdoor game night on the Donaulände!Those that don’t want to play can just sit and chit as well.We’re meeting at 6pm at the Donaulände on the grass right behind the Musikpavillion. If the weather is bad\, we’ll keep you updated. \n\n\n\nIf you are new\, you are welcome to contact us and\, for example\, be picked up at the main square \n\n\n\nWe look forward to you!Your YOUnited team
URL:https://younited.cc/event/younited-open-air-spieleabend-2/
LOCATION:Donaulände\, Linz\, Kulturmeile\, Linz\, 4020\, Österreich
CATEGORIES:linz
ATTACH;FMTTYPE=image/jpeg:https://younited.cc/app/uploads/2023/04/344111725_1439701519899100_3691861214348965246_n.jpg
END:VEVENT
BEGIN:VEVENT
DTSTART;TZID=Europe/Vienna:20230929T180000
DTEND;TZID=Europe/Vienna:20230929T220000
DTSTAMP:20260423T200416
CREATED:20230822T182912Z
LAST-MODIFIED:20230822T182913Z
UID:379-1696010400-1696024800@younited.cc
SUMMARY:YOUnited - Werwolf von Düsterwald
DESCRIPTION:Diesmal wird es wieder reißerisch bei YOUnited.Was raschelt im Gebüsch? Ein Werwolf oder doch nur das Mädchen?Findet es mit uns heraus\, wenn es wieder heißt: Wer ist gut und wer ist böse?Schafft es ein Bürgermeister über die Nacht hinweg?Diese und alle weiteren grußelige Antworten finden wir beim gemeinsamen Werwolf-Spiel heraus. \n\n\n\nFür alle Werwolf-Welpen unter uns: Gerne werden wir vor Spielbeginn die Regeln nochmals erklären.Beginn: 18 Uhr im Ann and PatSolltet ihr eine Erklärung der Regeln benötigen\, kommt bitte Rechtzeitig\, damit wir genug Zeit zum spielen haben.Solltet ihr euch dem Wolfsrudel nicht anschließen wollen\, könnt ihr euch gerne ins Cafe gesellen. \n\n\n\nWir freuen uns auf euch!Euer YOUnited-Team \n\n\n\n \n\n\n\n>> English version: \n\n\n\nThis time it’s getting lurid again at YOUnited.What’s rustling in the bushes? A werewolf or just the girl?Find out with us when it’s time again: Who is good and who is bad?Can a mayor make it through the night?We’ll find out these and all other spooky answers when we play the werewolf together.For all werewolf puppies among us: We will be happy to explain the rules again before the game starts.Start: 6 p.m. at Ann and PatIf you need an explanation of the rules\, please come in time so that we have enough time to play. \n\n\n\nAttention: The game will be done in German!If you don’t want to join the wolf pack\, you’re welcome to join us in the cafe.We look forward to seeing you!Your YOUnited team
URL:https://younited.cc/event/younited-werwolf-von-duesterwald/
LOCATION:ann and pat\, Lederergasse 7\, Linz\, 4020
ATTACH;FMTTYPE=image/jpeg:https://younited.cc/app/uploads/2022/10/younited_2022-09-30-werwolf.jpeg
END:VEVENT
END:VCALENDAR