BEGIN:VCALENDAR
VERSION:2.0
PRODID:-//younited - ECPv6.15.17.1//NONSGML v1.0//EN
CALSCALE:GREGORIAN
METHOD:PUBLISH
X-WR-CALNAME:younited
X-ORIGINAL-URL:https://younited.cc
X-WR-CALDESC:Veranstaltungen für younited
REFRESH-INTERVAL;VALUE=DURATION:PT1H
X-Robots-Tag:noindex
X-PUBLISHED-TTL:PT1H
BEGIN:VTIMEZONE
TZID:Europe/Vienna
BEGIN:DAYLIGHT
TZOFFSETFROM:+0100
TZOFFSETTO:+0200
TZNAME:CEST
DTSTART:20220327T010000
END:DAYLIGHT
BEGIN:STANDARD
TZOFFSETFROM:+0200
TZOFFSETTO:+0100
TZNAME:CET
DTSTART:20221030T010000
END:STANDARD
BEGIN:DAYLIGHT
TZOFFSETFROM:+0100
TZOFFSETTO:+0200
TZNAME:CEST
DTSTART:20230326T010000
END:DAYLIGHT
BEGIN:STANDARD
TZOFFSETFROM:+0200
TZOFFSETTO:+0100
TZNAME:CET
DTSTART:20231029T010000
END:STANDARD
BEGIN:DAYLIGHT
TZOFFSETFROM:+0100
TZOFFSETTO:+0200
TZNAME:CEST
DTSTART:20240331T010000
END:DAYLIGHT
BEGIN:STANDARD
TZOFFSETFROM:+0200
TZOFFSETTO:+0100
TZNAME:CET
DTSTART:20241027T010000
END:STANDARD
END:VTIMEZONE
BEGIN:VEVENT
DTSTART;TZID=Europe/Vienna:20231110T180000
DTEND;TZID=Europe/Vienna:20231110T220000
DTSTAMP:20260423T171026
CREATED:20231106T204939Z
LAST-MODIFIED:20231106T204939Z
UID:407-1699639200-1699653600@younited.cc
SUMMARY:Self Care Abend
DESCRIPTION:(English below) \n\n\n\nYesss – it’s Selfcare Day! \n\n\n\nAm 10.11. ist Boys Day und zu diesem Anlass dreht sich bei YOUnited diesen Freitag alles um Selfcare – natürlich für alle Geschlechter. \n\n\n\nEin Wellness-Mess Tag der Sinnlichkeiten. Weil auf sich selbst schauen & Koolsein einfach zam g‘hört! \n\n\n\nDas heißt: \n\n\n\nRund um Beauty\, Selbstgönnung & Skill Sharing inklusive Jausn findest du bei uns an dem Tag verschiedene Stationen\, wo du mit dabei sein kannst.Wir tauschen uns aus\, was uns gut tut & uns in Chill – Modus bringt. Stress gibt’s eh überall anders gnuag 🙂 \n\n\n\nBring mit & checke dir sonst auch bei uns im Ann And Pat folgende Sachen: \n\n\n\n✨ Bastelzeug für Schmuck / Accessoires / Look(Nagellack\, Haarspray\, Onesies / Bademäntel\,Nagelfeilen\, Make up) \n\n\n\n✨ Zeugs zum Entspannen(Düfte\, Massage Stuff für dichGute Öle / cremen\, Kerzen) \n\n\n\n✨ Kleidung zum Bügeln\, Aufhübschen\, Stylen \n\n\n\n✨ Ideen für Musik & zum Teilen \n\n\n\nWer hart UND zart sein will\, muss locker bleiben.  Alsoooo:Selfcare kennt kein Gender.Starke Menschen gönnen sich eben selbst. \n\n\n\nDein Ann&Pat und YOUnited Team cares for you ✌🏼✌🏼✌🏼 \n\n\n\n>>> English version: \n\n\n\nYesss – it’s Selfcare Day! \n\n\n\nNovember 10th is Boys Day and on this occasion everything at YOUnited this Friday revolves around self care – for all genders of course. \n\n\n\nA wellness-mess day of comfort. Because looking after yourself & being cool simply goes hand in hand! \n\n\n\nThat means: \n\n\n\nOn that day you will find various stations where you can take part in everything related to beauty\, self-indulgence & skill sharing including snacks.We exchange ideas about what is good for us & puts us in chill mode. Stress already exists in abundance anyway 🙂 \n\n\n\nBring along & get the following things at the Ann And Pat: \n\n\n\n✨ Crafts for jewelry / accessories / look(Nail polish\, hairspray\, onesies / bathrobes\, nail files\, make-up) \n\n\n\n✨ Stuff to help you relax(Fragrances\, massage stuff for youGood oils / creams\, candles) \n\n\n\n✨ Clothes to iron\, dress up\, style \n\n\n\n✨ Ideas for music & sharing \n\n\n\nIf you want to be sturdy AND tender\, you have to stay relaxed. Sooo:Selfcare has no gender.Strong people indulge themselves. \n\n\n\nYour Ann & Pat and YOUnited team cares for you ✌🏼✌🏼 ✌🏼
URL:https://younited.cc/event/self-care-abend/
LOCATION:ann and pat\, Lederergasse 7\, Linz\, 4020
CATEGORIES:linz
ATTACH;FMTTYPE=image/webp:https://younited.cc/app/uploads/2022/10/entwurf_younited_flyer_2022-10-11.webp
END:VEVENT
BEGIN:VEVENT
DTSTART;TZID=Europe/Vienna:20231124T180000
DTEND;TZID=Europe/Vienna:20231124T220000
DTSTAMP:20260423T171026
CREATED:20231112T165308Z
LAST-MODIFIED:20231112T165308Z
UID:409-1700848800-1700863200@younited.cc
SUMMARY:Movie Night
DESCRIPTION:(English below) \n\n\n\nHey Queers! \n\n\n\nWir treffen uns wieder zu einer Movie Night!Für einen queeren Film & Snacks ist gesorgt\, ihr dürft euch aber auch gerne selbst welche mitbringen! \n\n\n\nTreffpunkt ist wie immer am Freitag um 18:00 im Ann and Pat.Den Film schauen wir auf Deutsch an. \n\n\n\nWir freuen uns auf euch! \n\n\n\n>> English version: \n\n\n\nHey Queers! \n\n\n\nWe’re having a movie night!In addition to the queer movie\, there’ll be snacks! But you’re welcome to bring your own too. \n\n\n\nWe’re meeting as usual at Friday\, 6pm at the Ann and Pat.Note that the movie will be in German. \n\n\n\nSee you there!
URL:https://younited.cc/event/movie-night/
LOCATION:ann and pat\, Lederergasse 7\, Linz\, 4020
CATEGORIES:linz
ATTACH;FMTTYPE=image/jpeg:https://younited.cc/app/uploads/2022/11/younited_2021-10-01_spieleabend.jpg
END:VEVENT
END:VCALENDAR