BEGIN:VCALENDAR
VERSION:2.0
PRODID:-//younited - ECPv6.15.17.1//NONSGML v1.0//EN
CALSCALE:GREGORIAN
METHOD:PUBLISH
X-WR-CALNAME:younited
X-ORIGINAL-URL:https://younited.cc
X-WR-CALDESC:Veranstaltungen für younited
REFRESH-INTERVAL;VALUE=DURATION:PT1H
X-Robots-Tag:noindex
X-PUBLISHED-TTL:PT1H
BEGIN:VTIMEZONE
TZID:Europe/Vienna
BEGIN:DAYLIGHT
TZOFFSETFROM:+0100
TZOFFSETTO:+0200
TZNAME:CEST
DTSTART:20240331T010000
END:DAYLIGHT
BEGIN:STANDARD
TZOFFSETFROM:+0200
TZOFFSETTO:+0100
TZNAME:CET
DTSTART:20241027T010000
END:STANDARD
BEGIN:DAYLIGHT
TZOFFSETFROM:+0100
TZOFFSETTO:+0200
TZNAME:CEST
DTSTART:20250330T010000
END:DAYLIGHT
BEGIN:STANDARD
TZOFFSETFROM:+0200
TZOFFSETTO:+0100
TZNAME:CET
DTSTART:20251026T010000
END:STANDARD
BEGIN:DAYLIGHT
TZOFFSETFROM:+0100
TZOFFSETTO:+0200
TZNAME:CEST
DTSTART:20260329T010000
END:DAYLIGHT
BEGIN:STANDARD
TZOFFSETFROM:+0200
TZOFFSETTO:+0100
TZNAME:CET
DTSTART:20261025T010000
END:STANDARD
END:VTIMEZONE
BEGIN:VEVENT
DTSTART;TZID=Europe/Vienna:20250603T190000
DTEND;TZID=Europe/Vienna:20250603T210000
DTSTAMP:20260422T172505
CREATED:20250517T150743Z
LAST-MODIFIED:20250517T150744Z
UID:843-1748977200-1748984400@younited.cc
SUMMARY:Queer un(d) fit
DESCRIPTION:Unser nächstes Treffen: \n\n\n\nDienstag\, 03.06.2025 19 Uhr \n\n\n\nam gewohnten Treffpunkt Bahnhof Ebelsberg. \n\n\n\nDie S1 um 18:53 vom Linzer HBF (Ankunft Ebelsberg um 18:59) warten wir auch bei Verspätung ab. Bitte meldet euch bei anderen Verspätungen. \n\n\n\nFür weitere Infos seht bitte in die Beschreibung auf der Website und den Eventkalender. \n\n\n\nWir freuen uns auf bekannte und auf neue Gesichter! \n\n\n\nKonsti\, Mel\, Tom
URL:https://younited.cc/event/queer-und-fit-6/
LOCATION:Bahnhof Ebelsberg\, Traundorfer Str. 91\, Linz\, 4030\, Austria
CATEGORIES:queer un(d) fit
END:VEVENT
BEGIN:VEVENT
DTSTART;TZID=Europe/Vienna:20250606T180000
DTEND;TZID=Europe/Vienna:20250606T220000
DTSTAMP:20260422T172505
CREATED:20250523T205136Z
LAST-MODIFIED:20250523T210537Z
UID:857-1749232800-1749247200@younited.cc
SUMMARY:Open Air Spieleabend
DESCRIPTION:Hey Queers! \n\n\n\nwir treffen uns wieder zu einem Outdoor-Spieleabend auf der Donaulände!Wer nicht spielen möchte\, kann natürlich auch einfach sitzen und quatschen. \n\n\n\nBei Schlechtwetter folgen Infos zum Alternativprogramm.Wir treffen uns hinterm Musikpavillion auf der Donaulände ab 18:00.Willkommen sind alle zwischen 14 und 25 Jahren. \n\n\n\nWer neu ist kann sich gern melden und z.B. am Hauptplatz abgeholt werden. \n\n\n\nWir freuen uns auf euch!Euer younited – young and queer Team
URL:https://younited.cc/event/younited-open-air-spieleabend-in-linz-3/
LOCATION:Donaulände\, Linz\, Kulturmeile\, Linz\, 4020\, Österreich
CATEGORIES:linz,young and queer
ATTACH;FMTTYPE=image/png:https://younited.cc/app/uploads/2025/05/test.png
END:VEVENT
BEGIN:VEVENT
DTSTART;TZID=Europe/Vienna:20250610T190000
DTEND;TZID=Europe/Vienna:20250610T210000
DTSTAMP:20260422T172505
CREATED:20250517T150818Z
LAST-MODIFIED:20250517T150819Z
UID:845-1749582000-1749589200@younited.cc
SUMMARY:Queer un(d) fit
DESCRIPTION:Unser nächstes Treffen: \n\n\n\nDienstag\, 10.06.2025 19 Uhr \n\n\n\nam gewohnten Treffpunkt Bahnhof Ebelsberg. \n\n\n\nDie S1 um 18:53 vom Linzer HBF (Ankunft Ebelsberg um 18:59) warten wir auch bei Verspätung ab. Bitte meldet euch bei anderen Verspätungen. \n\n\n\nFür weitere Infos seht bitte in die Beschreibung auf der Website und den Eventkalender. \n\n\n\nWir freuen uns auf bekannte und auf neue Gesichter! \n\n\n\nKonsti\, Mel\, Tom
URL:https://younited.cc/event/queer-und-fit-7/
LOCATION:Bahnhof Ebelsberg\, Traundorfer Str. 91\, Linz\, 4030\, Austria
CATEGORIES:queer un(d) fit
END:VEVENT
BEGIN:VEVENT
DTSTART;TZID=Europe/Vienna:20250617T190000
DTEND;TZID=Europe/Vienna:20250617T210000
DTSTAMP:20260422T172505
CREATED:20250517T150852Z
LAST-MODIFIED:20250517T150853Z
UID:847-1750186800-1750194000@younited.cc
SUMMARY:Queer un(d) fit
DESCRIPTION:Unser nächstes Treffen: \n\n\n\nDienstag\, 17.06.2025 19 Uhr \n\n\n\nam gewohnten Treffpunkt Bahnhof Ebelsberg. \n\n\n\nDie S1 um 18:53 vom Linzer HBF (Ankunft Ebelsberg um 18:59) warten wir auch bei Verspätung ab. Bitte meldet euch bei anderen Verspätungen. \n\n\n\nFür weitere Infos seht bitte in die Beschreibung auf der Website und den Eventkalender. \n\n\n\nWir freuen uns auf bekannte und auf neue Gesichter! \n\n\n\nKonsti\, Mel\, Tom
URL:https://younited.cc/event/queer-und-fit-8/
LOCATION:Bahnhof Ebelsberg\, Traundorfer Str. 91\, Linz\, 4030\, Austria
CATEGORIES:queer un(d) fit
END:VEVENT
BEGIN:VEVENT
DTSTART;TZID=Europe/Vienna:20250620T180000
DTEND;TZID=Europe/Vienna:20250620T220000
DTSTAMP:20260422T172505
CREATED:20250523T210926Z
LAST-MODIFIED:20250616T171929Z
UID:864-1750442400-1750456800@younited.cc
SUMMARY:Chillen am Strand
DESCRIPTION:Hey Queers\, \n\n\n\nWir sind am Strand! \n\n\n\nWer will\, kann baden gehen\, oder einfach chillen und Uno spielen \n\n\n\nBei Schlechtwetter folgen Infos zum Alternativprogramm.Wir treffen uns am Donaustrand in Alt-Urfahr ab 18:00.Willkommen sind alle zwischen 14 und 25 Jahren. \n\n\n\nWer neu ist kann sich gern melden und z.B. am Hauptplatz abgeholt werden. \n\n\n\nWir freuen uns auf euch!Euer younited – young and queer Team
URL:https://younited.cc/event/open-air-spieleabend/
LOCATION:Donaustrand Alturfahr\, Obere Donaustraße\, Linz\, 4040\, Österreich
CATEGORIES:linz,young and queer
ATTACH;FMTTYPE=image/png:https://younited.cc/app/uploads/2025/05/20_06_25.png
END:VEVENT
BEGIN:VEVENT
DTSTART;TZID=Europe/Vienna:20250621T140000
DTEND;TZID=Europe/Vienna:20250621T210000
DTSTAMP:20260422T172505
CREATED:20250607T201239Z
LAST-MODIFIED:20250607T203856Z
UID:914-1750514400-1750539600@younited.cc
SUMMARY:younited @ Linzpride Pride City
DESCRIPTION:Pride und Zusammenhalt sind gerade wichtiger denn je – und wir sind natürlich wieder mit am Start! \n\n\n\nAb 14 Uhr findet ihr uns in der Pride City am OK-Platz/Ursulinenhof.Kommt vorbei\, setzt euch zu uns\, plaudert ein bisschen oder helft uns\, mit Interessierten ins Gespräch zu kommen. \n\n\n\nWir freuen uns auf euch!Be proud. Stay queer.Euer younited-Team 🏳️‍🌈
URL:https://younited.cc/event/younited-linzpride-pride-city-2/
LOCATION:OK Platz\, OK Platz 1\, Linz\, 4020\, Österreich
CATEGORIES:queer un(d) fit,young and queer
ATTACH;FMTTYPE=image/png:https://younited.cc/app/uploads/2023/04/cropped-logo_younited_verein-fuer-queere-angelegenheiten_weiss.png
END:VEVENT
BEGIN:VEVENT
DTSTART;TZID=Europe/Vienna:20250621T120000
DTEND;TZID=Europe/Vienna:20250621T163000
DTSTAMP:20260422T172505
CREATED:20250607T201616Z
LAST-MODIFIED:20250607T204203Z
UID:926-1750507200-1750523400@younited.cc
SUMMARY:younited @ Linzpride Pride Parade
DESCRIPTION:Schnappt euch eure Flaggen\, Buttons und Rainbow-Outfits – es ist wieder Linzpride! 🏳️‍🌈✨ \n\n\n\nSeid dabei und unterstützt unsere Fußgruppe für mehr Sichtbarkeit\, Vielfalt und queeren Zusammenhalt. Gerade jetzt ist es wichtiger denn je\, laut und sichtbar zu sein! \n\n\n\nOb mit Banner\, Flagge oder beim Flyern – jede Hilfe zählt und macht einen Unterschied 💪 \n\n\n\n📍 Startnummer: A – direkt hinterm 2. Truck📍 Treffpunkt: ab 12 Uhr im Volksgarten🎉 Parade-Start: 14 Uhr \n\n\n\nNach der Parade findet ihr uns in der Pride City an unserem Infostand – kommt vorbei\, sagt hi und quatscht mit uns! \n\n\n\nBe proud. Stay queer.Euer younited-Team ❤️🧡💛💚💙💜
URL:https://younited.cc/event/younited-linzpride-pride-parade/
LOCATION:Volksgarten Linz\, Volksgarten 1\, Linz\, 4020\, Österreich
CATEGORIES:queer un(d) fit,young and queer
ATTACH;FMTTYPE=image/png:https://younited.cc/app/uploads/2023/04/cropped-logo_younited_verein-fuer-queere-angelegenheiten_weiss.png
END:VEVENT
BEGIN:VEVENT
DTSTART;TZID=Europe/Vienna:20250624T190000
DTEND;TZID=Europe/Vienna:20250624T210000
DTSTAMP:20260422T172505
CREATED:20250616T163922Z
LAST-MODIFIED:20250616T163922Z
UID:965-1750791600-1750798800@younited.cc
SUMMARY:Queer un(d) fit
DESCRIPTION:Unser nächstes Treffen: \n\n\n\nDienstag\, 24.06.2025 19 Uhr \n\n\n\nam gewohnten Treffpunkt Bahnhof Ebelsberg. \n\n\n\nDie S1 um 18:53 vom Linzer HBF (Ankunft Ebelsberg um 18:59) warten wir auch bei Verspätung ab. Bitte meldet euch bei anderen Verspätungen. \n\n\n\nFür weitere Infos seht bitte in die Beschreibung auf der Website und den Eventkalender. \n\n\n\nWir freuen uns auf bekannte und auf neue Gesichter! \n\n\n\nKonsti\, Mel\, Tom
URL:https://younited.cc/event/queer-und-fit-9/
LOCATION:Bahnhof Ebelsberg\, Traundorfer Str. 91\, Linz\, 4030\, Austria
CATEGORIES:queer un(d) fit
END:VEVENT
END:VCALENDAR