BEGIN:VCALENDAR
VERSION:2.0
PRODID:-//younited - ECPv6.15.17.1//NONSGML v1.0//EN
CALSCALE:GREGORIAN
METHOD:PUBLISH
X-ORIGINAL-URL:https://younited.cc
X-WR-CALDESC:Veranstaltungen für younited
REFRESH-INTERVAL;VALUE=DURATION:PT1H
X-Robots-Tag:noindex
X-PUBLISHED-TTL:PT1H
BEGIN:VTIMEZONE
TZID:Europe/Vienna
BEGIN:DAYLIGHT
TZOFFSETFROM:+0100
TZOFFSETTO:+0200
TZNAME:CEST
DTSTART:20240331T010000
END:DAYLIGHT
BEGIN:STANDARD
TZOFFSETFROM:+0200
TZOFFSETTO:+0100
TZNAME:CET
DTSTART:20241027T010000
END:STANDARD
BEGIN:DAYLIGHT
TZOFFSETFROM:+0100
TZOFFSETTO:+0200
TZNAME:CEST
DTSTART:20250330T010000
END:DAYLIGHT
BEGIN:STANDARD
TZOFFSETFROM:+0200
TZOFFSETTO:+0100
TZNAME:CET
DTSTART:20251026T010000
END:STANDARD
BEGIN:DAYLIGHT
TZOFFSETFROM:+0100
TZOFFSETTO:+0200
TZNAME:CEST
DTSTART:20260329T010000
END:DAYLIGHT
BEGIN:STANDARD
TZOFFSETFROM:+0200
TZOFFSETTO:+0100
TZNAME:CET
DTSTART:20261025T010000
END:STANDARD
END:VTIMEZONE
BEGIN:VEVENT
DTSTART;TZID=Europe/Vienna:20250701T190000
DTEND;TZID=Europe/Vienna:20250701T210000
DTSTAMP:20260422T184808
CREATED:20250616T164003Z
LAST-MODIFIED:20250616T164004Z
UID:969-1751396400-1751403600@younited.cc
SUMMARY:Queer un(d) fit
DESCRIPTION:Unser nächstes Treffen: \n\n\n\nDienstag\, 01.07.2025 19 Uhr \n\n\n\nam gewohnten Treffpunkt Bahnhof Ebelsberg. \n\n\n\nDie S1 um 18:53 vom Linzer HBF (Ankunft Ebelsberg um 18:59) warten wir auch bei Verspätung ab. Bitte meldet euch bei anderen Verspätungen. \n\n\n\nFür weitere Infos seht bitte in die Beschreibung auf der Website und den Eventkalender. \n\n\n\nWir freuen uns auf bekannte und auf neue Gesichter! \n\n\n\nKonsti\, Mel\, Tom
URL:https://younited.cc/event/queer-und-fit-10/
LOCATION:Bahnhof Ebelsberg\, Traundorfer Str. 91\, Linz\, 4030\, Austria
CATEGORIES:queer un(d) fit
END:VEVENT
BEGIN:VEVENT
DTSTART;TZID=Europe/Vienna:20250704T180000
DTEND;TZID=Europe/Vienna:20250704T220000
DTSTAMP:20260422T184808
CREATED:20250623T071324Z
LAST-MODIFIED:20250623T071324Z
UID:979-1751652000-1751666400@younited.cc
SUMMARY:Open Air Spieleabend
DESCRIPTION:Hey Queers! \n\n\n\nwir treffen uns wieder zu einem Outdoor-Spieleabend auf der Donaulände!Wer nicht spielen möchte\, kann natürlich auch einfach sitzen und quatschen. \n\n\n\nPacke dir eine Picknickdecke ein und nimm dir was zum Trinken mit. \n\n\n\nBei Schlechtwetter folgen Infos zum Alternativprogramm.Wir treffen uns hinterm Musikpavillion auf der Donaulände ab 18:00.Willkommen sind alle zwischen 14 und 25 Jahren. \n\n\n\nWer neu ist kann sich gern melden und z.B. am Hauptplatz abgeholt werden. \n\n\n\nWir freuen uns auf euch!Euer younited – young and queer Team
URL:https://younited.cc/event/open-air-spieleabend-2/
LOCATION:Donaulände\, Linz\, Kulturmeile\, Linz\, 4020\, Österreich
CATEGORIES:linz,young and queer
ATTACH;FMTTYPE=image/png:https://younited.cc/app/uploads/2025/06/younited-outdoor-2025-07-1.png
END:VEVENT
BEGIN:VEVENT
DTSTART;TZID=Europe/Vienna:20250708T190000
DTEND;TZID=Europe/Vienna:20250708T210000
DTSTAMP:20260422T184808
CREATED:20250616T164023Z
LAST-MODIFIED:20250616T164023Z
UID:971-1752001200-1752008400@younited.cc
SUMMARY:Queer un(d) fit
DESCRIPTION:Unser nächstes Treffen: \n\n\n\nDienstag\, 08.07.2025 19 Uhr \n\n\n\nam gewohnten Treffpunkt Bahnhof Ebelsberg. \n\n\n\nDie S1 um 18:53 vom Linzer HBF (Ankunft Ebelsberg um 18:59) warten wir auch bei Verspätung ab. Bitte meldet euch bei anderen Verspätungen. \n\n\n\nFür weitere Infos seht bitte in die Beschreibung auf der Website und den Eventkalender. \n\n\n\nWir freuen uns auf bekannte und auf neue Gesichter! \n\n\n\nKonsti\, Mel\, Tom
URL:https://younited.cc/event/queer-und-fit-11/
LOCATION:Bahnhof Ebelsberg\, Traundorfer Str. 91\, Linz\, 4030\, Austria
CATEGORIES:queer un(d) fit
END:VEVENT
BEGIN:VEVENT
DTSTART;TZID=Europe/Vienna:20250715T190000
DTEND;TZID=Europe/Vienna:20250715T210000
DTSTAMP:20260422T184808
CREATED:20250616T164051Z
LAST-MODIFIED:20250616T164052Z
UID:973-1752606000-1752613200@younited.cc
SUMMARY:Queer un(d) fit
DESCRIPTION:Unser nächstes Treffen: \n\n\n\nDienstag\, 15.07.2025 19 Uhr \n\n\n\nam gewohnten Treffpunkt Bahnhof Ebelsberg. \n\n\n\nDie S1 um 18:53 vom Linzer HBF (Ankunft Ebelsberg um 18:59) warten wir auch bei Verspätung ab. Bitte meldet euch bei anderen Verspätungen. \n\n\n\nFür weitere Infos seht bitte in die Beschreibung auf der Website und den Eventkalender. \n\n\n\nWir freuen uns auf bekannte und auf neue Gesichter! \n\n\n\nKonsti\, Mel\, Tom
URL:https://younited.cc/event/queer-und-fit-12/
LOCATION:Bahnhof Ebelsberg\, Traundorfer Str. 91\, Linz\, 4030\, Austria
CATEGORIES:queer un(d) fit
END:VEVENT
BEGIN:VEVENT
DTSTART;TZID=Europe/Vienna:20250718T180000
DTEND;TZID=Europe/Vienna:20250718T220000
DTSTAMP:20260422T184808
CREATED:20250623T094412Z
LAST-MODIFIED:20250718T075221Z
UID:984-1752861600-1752876000@younited.cc
SUMMARY:Chillen am Strand
DESCRIPTION:❗️Wichtiges Update:❗️Aufgrund des nassen Wetters werden wir uns heute zu einem Spieleabend unter der Eisenbahnbrücke auf der Urfahr-Seite treffen.Treffpunkt ist um 18:00.Wir freuen uns auf euch!Euer younited – young and queer TeamHier treffen wir uns:https://www.linz.at/medienservice/2025/202501_129699.php \n\n\n\n \n\n\n\nOriginaltext: \n\n\n\nHey Queers\, \n\n\n\nWir sind am Strand! \n\n\n\nWer will\, kann baden gehen\, oder einfach chillen und Uno spielen \n\n\n\nBei Schlechtwetter folgen Infos zum Alternativprogramm.Wir treffen uns am Donaustrand in Alt-Urfahr ab 18:00.Willkommen sind alle zwischen 14 und 25 Jahren. \n\n\n\nWer neu ist kann sich gern melden und z.B. am Hauptplatz abgeholt werden. \n\n\n\nWir freuen uns auf euch!Euer younited – young and queer Team
URL:https://younited.cc/event/chillen-am-strand/
CATEGORIES:linz,young and queer
ATTACH;FMTTYPE=image/png:https://younited.cc/app/uploads/2025/06/180725.png
END:VEVENT
BEGIN:VEVENT
DTSTART;TZID=Europe/Vienna:20250722T190000
DTEND;TZID=Europe/Vienna:20250722T210000
DTSTAMP:20260422T184808
CREATED:20250723T154456Z
LAST-MODIFIED:20250723T154457Z
UID:999-1753210800-1753218000@younited.cc
SUMMARY:Queer un(d) fit
DESCRIPTION:Unser nächstes Treffen: \n\n\n\nDienstag\, 22.07.2025 19 Uhr \n\n\n\nam gewohnten Treffpunkt Bahnhof Ebelsberg. \n\n\n\nDie S1 um 18:53 vom Linzer HBF (Ankunft Ebelsberg um 18:59) warten wir auch bei Verspätung ab. Bitte meldet euch bei anderen Verspätungen. \n\n\n\nFür weitere Infos seht bitte in die Beschreibung auf der Website und den Eventkalender. \n\n\n\nWir freuen uns auf bekannte und auf neue Gesichter! \n\n\n\nKonsti\, Mel\, Tom
URL:https://younited.cc/event/queer-und-fit-13/
LOCATION:Bahnhof Ebelsberg\, Traundorfer Str. 91\, Linz\, 4030\, Austria
CATEGORIES:queer un(d) fit
END:VEVENT
BEGIN:VEVENT
DTSTART;TZID=Europe/Vienna:20250729T190000
DTEND;TZID=Europe/Vienna:20250729T210000
DTSTAMP:20260422T184808
CREATED:20250723T154522Z
LAST-MODIFIED:20250723T154523Z
UID:1001-1753815600-1753822800@younited.cc
SUMMARY:Queer un(d) fit
DESCRIPTION:Unser nächstes Treffen: \n\n\n\nDienstag\, 29.07.2025 19 Uhr \n\n\n\nam gewohnten Treffpunkt Bahnhof Ebelsberg. \n\n\n\nDie S1 um 18:53 vom Linzer HBF (Ankunft Ebelsberg um 18:59) warten wir auch bei Verspätung ab. Bitte meldet euch bei anderen Verspätungen. \n\n\n\nFür weitere Infos seht bitte in die Beschreibung auf der Website und den Eventkalender. \n\n\n\nWir freuen uns auf bekannte und auf neue Gesichter! \n\n\n\nKonsti\, Mel\, Tom
URL:https://younited.cc/event/queer-und-fit-14/
LOCATION:Bahnhof Ebelsberg\, Traundorfer Str. 91\, Linz\, 4030\, Austria
CATEGORIES:queer un(d) fit
END:VEVENT
END:VCALENDAR