BEGIN:VCALENDAR
VERSION:2.0
PRODID:-//younited - ECPv6.15.17.1//NONSGML v1.0//EN
CALSCALE:GREGORIAN
METHOD:PUBLISH
X-ORIGINAL-URL:https://younited.cc
X-WR-CALDESC:Veranstaltungen für younited
REFRESH-INTERVAL;VALUE=DURATION:PT1H
X-Robots-Tag:noindex
X-PUBLISHED-TTL:PT1H
BEGIN:VTIMEZONE
TZID:Europe/Vienna
BEGIN:DAYLIGHT
TZOFFSETFROM:+0100
TZOFFSETTO:+0200
TZNAME:CEST
DTSTART:20240331T010000
END:DAYLIGHT
BEGIN:STANDARD
TZOFFSETFROM:+0200
TZOFFSETTO:+0100
TZNAME:CET
DTSTART:20241027T010000
END:STANDARD
BEGIN:DAYLIGHT
TZOFFSETFROM:+0100
TZOFFSETTO:+0200
TZNAME:CEST
DTSTART:20250330T010000
END:DAYLIGHT
BEGIN:STANDARD
TZOFFSETFROM:+0200
TZOFFSETTO:+0100
TZNAME:CET
DTSTART:20251026T010000
END:STANDARD
BEGIN:DAYLIGHT
TZOFFSETFROM:+0100
TZOFFSETTO:+0200
TZNAME:CEST
DTSTART:20260329T010000
END:DAYLIGHT
BEGIN:STANDARD
TZOFFSETFROM:+0200
TZOFFSETTO:+0100
TZNAME:CET
DTSTART:20261025T010000
END:STANDARD
END:VTIMEZONE
BEGIN:VEVENT
DTSTART;TZID=Europe/Vienna:20251205T180000
DTEND;TZID=Europe/Vienna:20251205T220000
DTSTAMP:20260424T115928
CREATED:20251130T104209Z
LAST-MODIFIED:20251130T104210Z
UID:1241-1764957600-1764972000@younited.cc
SUMMARY:Spieleabend
DESCRIPTION:Hey Queers!Wir treffen uns wieder zu einem Spieleabend im Ann and Pat!Wer nicht spielen möchte\, kann natürlich auch einfach sitzen und quatschen.Treffpunkt ist ab 18:00 im Jugendzentrum Ann and Pat.Willkommen sind alle zwischen 14 und 25 Jahren.Wer neu ist kann sich gern melden und z.B. am Hauptplatz abgeholt werden.Wir freuen uns auf euch!Euer younited – young and queer Team
URL:https://younited.cc/event/spieleabend-2/
LOCATION:ann and pat\, Lederergasse 7\, Linz\, 4020
CATEGORIES:linz,young and queer
ATTACH;FMTTYPE=image/png:https://younited.cc/app/uploads/2025/04/younited_2025-04-25-spieleabend-neu.png
END:VEVENT
BEGIN:VEVENT
DTSTART;TZID=Europe/Vienna:20251207T140000
DTEND;TZID=Europe/Vienna:20251207T160000
DTSTAMP:20260424T115928
CREATED:20251203T125641Z
LAST-MODIFIED:20251203T125642Z
UID:1244-1765116000-1765123200@younited.cc
SUMMARY:Queer un(d) fit
DESCRIPTION:Unser nächstes Treffen: \n\n\n\nSonntag\, 7.12.2025 14 Uhr \n\n\n\nam gewohnten Treffpunkt Bahnhof Ebelsberg. \n\n\n\nDie S1 um 13:53 vom Linzer HBF (Ankunft Ebelsberg um 13:59) warten wir auch bei Verspätung ab. Bitte meldet euch bei anderen Verspätungen. \n\n\n\nFür weitere Infos seht bitte in die Beschreibung auf der Website und den Eventkalender. \n\n\n\nWir freuen uns auf bekannte und auf neue Gesichter! \n\n\n\nKonsti\, Mel\, Tom
URL:https://younited.cc/event/queer-und-fit-33/
LOCATION:Bahnhof Ebelsberg\, Traundorfer Str. 91\, Linz\, 4030\, Austria
CATEGORIES:queer un(d) fit
END:VEVENT
BEGIN:VEVENT
DTSTART;TZID=Europe/Vienna:20251214T140000
DTEND;TZID=Europe/Vienna:20251214T160000
DTSTAMP:20260424T115928
CREATED:20251210T135315Z
LAST-MODIFIED:20251210T135315Z
UID:1246-1765720800-1765728000@younited.cc
SUMMARY:Queer un(d) fit
DESCRIPTION:Unser nächstes Treffen: \n\n\n\nSonntag\, 14.12.2025 14 Uhr \n\n\n\nam gewohnten Treffpunkt Bahnhof Ebelsberg. \n\n\n\nDie S1 um 13:53 vom Linzer HBF (Ankunft Ebelsberg um 13:59) warten wir auch bei Verspätung ab. Bitte meldet euch bei anderen Verspätungen. \n\n\n\nFür weitere Infos seht bitte in die Beschreibung auf der Website und den Eventkalender. \n\n\n\nWir freuen uns auf bekannte und auf neue Gesichter! \n\n\n\nKonsti\, Mel\, Tom
URL:https://younited.cc/event/queer-und-fit-34/
LOCATION:Bahnhof Ebelsberg\, Traundorfer Str. 91\, Linz\, 4030\, Austria
CATEGORIES:queer un(d) fit
END:VEVENT
BEGIN:VEVENT
DTSTART;TZID=Europe/Vienna:20251215T180000
DTEND;TZID=Europe/Vienna:20251215T210000
DTSTAMP:20260424T115928
CREATED:20251121T155244Z
LAST-MODIFIED:20260416T131813Z
UID:1236-1765821600-1765832400@younited.cc
SUMMARY:Queeres Häkeln und Stricken
DESCRIPTION:Hallo ihr Lieben\,  \n\n\n\nEs gibt einen neuen Plan die Weltherrschaft an uns zu reißen: wir packen sie gemeinsam in Wollwerk ein! Das will natürlich gelernt sein\, und Zeit dafür braucht man auch. Deshalb (okay\, eigentlich weil es einfach Spaß macht) haben unser Konsti und Kay eine kleine\, feine Häkel- und Strickrunde ins Leben gerufen\, wo genau das gemacht wird.  \n\n\n\nWo und wann?  \n\n\n\nWissensturm Linz\, Raum 10.02  \n\n\n\nDer Termin ist ausnahmsweise am 3. Montag im Monat:Montag\, 15. Dezember 2025\, 18:00 bis 21:00 Uhr  \n\n\n\nDer Raum im Wissensturm ist barrierefrei über die Lifte erreichbar.  \n\n\n\nWeitere Infos:  \n\n\n\nAnfänger\, Fortgeschrittene und Vollprofis sind alle herzlich willkommen. Egal\, ob du Wolle zu lustigen kleinen Figuren verarbeiten willst\, zu Kleidung für dich\, einen <3 Menschen oder den Traktor deiner Nachbarn1\, und auch wenn du es noch gar nicht so recht weißt und Inspiration suchst mal was anderes zu probieren – hier ist eine Gelegenheit\, das in gemütlicher Atmosphäre zusammen mit coolen anderen Häkel- und Strickbegeisterten zu tun. Bücher mit verschiedensten Patterns in unterschiedlichen Schwierigkeitsgraden liegen auf. Wer gerade noch herausfindet\, wie man so eine Nadel überhaupt in die Hand nimmt\, wird gerne behutsam beim Lernen begleitet.   \n\n\n\nWir achten darauf\, zusätzliche Reize möglichst gering zu halten\, damit konzentriertes Arbeiten möglich ist. Sollte dir also in dieser Hinsicht irgendwas Probleme bereiten\, sprich es an. Du bist nicht allein 🙂  \n\n\n\nBring\, wenn möglich\, bitte deine eigenen Materialien mit. Eine begrenzte Auswahl Wolle und Nadeln zum Üben und Testen ist jedoch vorhanden und kann geliehen werden – gegen einen Unkostenbeitrag von 2€\, zahlbar mit Kreditkarten – Visa\, Mastercard\, AMEX\, DinersCard\, Discover) ApplePay und GooglePay. Das Wichtigste ist die Motivation\, Weltherrschaftsbestrebungen sind optional.  \n\n\n\nUnter office@younited.cc kannst du Fragen stellen\, die du gern vorab geklärt haben möchtest (z.b. wie wir bei der Reduktion von Barrieren unterstützen können).   \n\n\n\n1) für unglückliche Traktoren übernehmen wir aber keine Haftung. 
URL:https://younited.cc/event/queere-haekel-und-strickrunde-3/
LOCATION:Wissensturm\, Kärntnerstraße 26\, Linz\, 4020\, Austria
CATEGORIES:Artis
ATTACH;FMTTYPE=image/jpeg:https://younited.cc/app/uploads/2025/11/20251120_093542000_iOS.jpg
END:VEVENT
BEGIN:VEVENT
DTSTART;TZID=Europe/Vienna:20251218T190000
DTEND;TZID=Europe/Vienna:20251218T230000
DTSTAMP:20260424T115928
CREATED:20251210T143427Z
LAST-MODIFIED:20251210T143428Z
UID:1248-1766084400-1766098800@younited.cc
SUMMARY:trans inter* nonbinary Stammtisch
DESCRIPTION:Der nächste trans inter* nonbinary Stammtisch findet am Donnerstag 18.12.2025 ab 19:00 im @fortynine_linz statt. \n\n\n\nDer Stammtisch bietet eine Gelegenheit\, sich in gemütlicher Wohnzimmeratmosphäre mit anderen Personen auszutauschen\, die dem trans\, inter* oder nicht binärem Spektrum angehören. Auch Menschen\, die sich nicht sicher sind\, ob sie trans\, inter* oder nicht binär sind sowie Angehörige sind willkommen. \n\n\n\nDieser Stammtisch ist eine Kooperation von younited und HOSI Linz.Kontakt und Anfragen zum Stammtisch bitte per Mail oder auf Instagram an @trans.inter.nonbinary.linz.
URL:https://younited.cc/event/trans-inter-nonbinary-stammtisch/
LOCATION:Queer Bar forty nine\, Schillerstraße 49\, Linz\, 4020
ATTACH;FMTTYPE=image/jpeg:https://younited.cc/app/uploads/2025/12/592254127_1404144098389527_3342353899055108648_n.jpg
END:VEVENT
BEGIN:VEVENT
DTSTART;TZID=Europe/Vienna:20251219T180000
DTEND;TZID=Europe/Vienna:20251219T220000
DTSTAMP:20260424T115928
CREATED:20251214T170108Z
LAST-MODIFIED:20251214T170109Z
UID:1252-1766167200-1766181600@younited.cc
SUMMARY:Festliches Beisammensein
DESCRIPTION:Wir treffen uns diesmal zu einem gemütlichen Beisammensein\, perfekt für die Weihnachtszeit. Genießt einen warmen Tee\, esst ein paar Kekse und genießt die Gemeinschaft. Treffpunkt ist ab 18:00 im Jugendzentrum Ann and Pat.Willkommen sind alle zwischen 14 und 25 Jahren.Wer neu ist kann sich gern melden und z.B. am Hauptplatz abgeholt werden.Wir freuen uns auf euch!Euer younited – young and queer TeamThis time\, we meet for a cozy get-together in the holiday season.Sip some tea\, have a few cookies and enjoy the company.We are meeting at the youth center Ann and Pat starting at 6pm.Everyone between 14 and 25 years old is welcome.If you are new\, you are welcome to contact us and\, for example\, be picked up at the main square.We look forward to you!Your younited – young and queer team
URL:https://younited.cc/event/festliches-beisammensein/
LOCATION:ann and pat\, Lederergasse 7\, Linz\, 4020
CATEGORIES:linz,young and queer
ATTACH;FMTTYPE=image/png:https://younited.cc/app/uploads/2025/12/signal-2025-12-14-17-49-07-598.png
END:VEVENT
BEGIN:VEVENT
DTSTART;TZID=Europe/Vienna:20251221T140000
DTEND;TZID=Europe/Vienna:20251221T160000
DTSTAMP:20260424T115928
CREATED:20251218T101259Z
LAST-MODIFIED:20251218T101300Z
UID:1261-1766325600-1766332800@younited.cc
SUMMARY:Queer un(d) fit
DESCRIPTION:Unser nächstes Treffen: \n\n\n\nSonntag\, 21.12.2025 14 Uhr \n\n\n\nam gewohnten Treffpunkt Bahnhof Ebelsberg. \n\n\n\nDie S1 um 13:53 vom Linzer HBF (Ankunft Ebelsberg um 13:59) warten wir auch bei Verspätung ab. Bitte meldet euch bei anderen Verspätungen. \n\n\n\nFür weitere Infos seht bitte in die Beschreibung auf der Website und den Eventkalender. \n\n\n\nWir freuen uns auf bekannte und auf neue Gesichter! \n\n\n\nKonsti\, Mel\, Tom
URL:https://younited.cc/event/queer-und-fit-35/
LOCATION:Bahnhof Ebelsberg\, Traundorfer Str. 91\, Linz\, 4030\, Austria
CATEGORIES:queer un(d) fit
END:VEVENT
BEGIN:VEVENT
DTSTART;TZID=Europe/Vienna:20251228T140000
DTEND;TZID=Europe/Vienna:20251228T160000
DTSTAMP:20260424T115928
CREATED:20251226T165616Z
LAST-MODIFIED:20251226T165616Z
UID:1282-1766930400-1766937600@younited.cc
SUMMARY:Queer un(d) fit
DESCRIPTION:Unser nächstes Treffen: \n\n\n\nSonntag\, 28.12.2025 14 Uhr \n\n\n\nam gewohnten Treffpunkt Bahnhof Ebelsberg. \n\n\n\nDie S1 um 13:53 vom Linzer HBF (Ankunft Ebelsberg um 13:59) warten wir auch bei Verspätung ab. Bitte meldet euch bei anderen Verspätungen. \n\n\n\nFür weitere Infos seht bitte in die Beschreibung auf der Website und den Eventkalender. \n\n\n\nWir freuen uns auf bekannte und auf neue Gesichter! \n\n\n\nKonsti\, Mel\, Tom
URL:https://younited.cc/event/queer-und-fit-36/
LOCATION:Bahnhof Ebelsberg\, Traundorfer Str. 91\, Linz\, 4030\, Austria
CATEGORIES:queer un(d) fit
END:VEVENT
END:VCALENDAR