BEGIN:VCALENDAR
VERSION:2.0
PRODID:-//younited - ECPv6.15.17.1//NONSGML v1.0//EN
CALSCALE:GREGORIAN
METHOD:PUBLISH
X-ORIGINAL-URL:https://younited.cc
X-WR-CALDESC:Veranstaltungen für younited
REFRESH-INTERVAL;VALUE=DURATION:PT1H
X-Robots-Tag:noindex
X-PUBLISHED-TTL:PT1H
BEGIN:VTIMEZONE
TZID:Europe/Vienna
BEGIN:DAYLIGHT
TZOFFSETFROM:+0100
TZOFFSETTO:+0200
TZNAME:CEST
DTSTART:20250330T010000
END:DAYLIGHT
BEGIN:STANDARD
TZOFFSETFROM:+0200
TZOFFSETTO:+0100
TZNAME:CET
DTSTART:20251026T010000
END:STANDARD
BEGIN:DAYLIGHT
TZOFFSETFROM:+0100
TZOFFSETTO:+0200
TZNAME:CEST
DTSTART:20260329T010000
END:DAYLIGHT
BEGIN:STANDARD
TZOFFSETFROM:+0200
TZOFFSETTO:+0100
TZNAME:CET
DTSTART:20261025T010000
END:STANDARD
BEGIN:DAYLIGHT
TZOFFSETFROM:+0100
TZOFFSETTO:+0200
TZNAME:CEST
DTSTART:20270328T010000
END:DAYLIGHT
BEGIN:STANDARD
TZOFFSETFROM:+0200
TZOFFSETTO:+0100
TZNAME:CET
DTSTART:20271031T010000
END:STANDARD
END:VTIMEZONE
BEGIN:VEVENT
DTSTART;TZID=Europe/Vienna:20260301T140000
DTEND;TZID=Europe/Vienna:20260301T160000
DTSTAMP:20260424T155228
CREATED:20260223T111838Z
LAST-MODIFIED:20260223T111838Z
UID:1406-1772373600-1772380800@younited.cc
SUMMARY:queer un(d) fit
DESCRIPTION:Unser nächstes Treffen: \n\n\n\nSonntag\, 01.03.2026 14 Uhr \n\n\n\nam gewohnten Treffpunkt Bahnhof Ebelsberg. \n\n\n\nDie S1 um 13:53 vom Linzer HBF (Ankunft Ebelsberg um 13:59) warten wir auch bei Verspätung ab. Bitte meldet euch bei anderen Verspätungen. \n\n\n\nFür weitere Infos seht bitte in die Beschreibung auf der Website und den Eventkalender. \n\n\n\nWir freuen uns auf bekannte und auf neue Gesichter! \n\n\n\nKonsti\, Mel\, Tom
URL:https://younited.cc/event/queer-und-fit-45/
LOCATION:Bahnhof Ebelsberg\, Traundorfer Str. 91\, Linz\, 4030\, Austria
CATEGORIES:queer un(d) fit
ATTACH;FMTTYPE=image/png:https://younited.cc/app/uploads/2026/01/younited-posts-neu5.png
END:VEVENT
BEGIN:VEVENT
DTSTART;TZID=Europe/Vienna:20260307T131500
DTEND;TZID=Europe/Vienna:20260307T190000
DTSTAMP:20260424T155228
CREATED:20260125T181556Z
LAST-MODIFIED:20260125T221805Z
UID:1321-1772889300-1772910000@younited.cc
SUMMARY:Weidenkorb flechten
DESCRIPTION:Hallo alle Interessierten! \n\n\n\nWir starten hiermit die neuen Workshops von younited – Artis. \n\n\n\nFür die erste Runde planen wir\, perfekt zur Jahreszeit\, Weidenkörbe zu flechten. Wir sind zwar selbst keine Expert*innen\, aber das hält uns trotzdem nicht davon ab\, dir (und uns) etwas Neues beizubringen. \n\n\n\nWeidenkörbe lassen sich z.B. als Katzenkörbchen\, zum Lagern von Lebensmitteln\, zum Einkaufen oder als Blumenampel einsetzen. \n\n\n\nWo? Wann? Muss ich was mitnehmen? \n\n\n\nWo und wann? \n\n\n\nSamstag\, 7.3.2026 \n\n\n\nVon 13:15 Uhr (in Abstimmung mit Öffis Fahrplänen) bis spätestens 19 Uhr \n\n\n\n(komme bitte pünktlich) \n\n\n\nStandort:Elia Begegnungs- und Seelsorgestelle (Solarcity)Pegasusweg 3 4030 Linz \n\n\n\nDas Elia ist barrierefrei und mit Öffis gut erreichbar. Abfahrt vom HBF Linz um 12:53\, Umstieg beim Bahnhof Ebelsberg auf die Straßenbahn (Linie 2) Richtung Solarcity. Ausstieg Solarcity Zentrum. An der Apotheke vorbei\, auf der anderen Straßenseite befindet sich das Elia. \n\n\n\nParkplätze vor Ort sind gebührenfrei vorhanden\, aber sehr begrenzt. \n\n\n\nMuss ich was mitnehmen?Weiden und sonstige Grundmaterialien stellen wir zur Verfügung. Möchtest du deinen Korb gerne bunt verzieren\, nimm gerne Bänder und Perlen oder ähnliches mit.Verpflegung: Essen/Snacks ist auch selbst mitbringen. Ein Spar liegt gleich nebenan. \n\n\n\nSchutzausrüstung: Unempfindliche Kleidung und dünne Gartenhandschuhe könnten von Vorteil sein. Besonders\, wenn du Nägel schützen möchtest oder empfindliche Haut hast. \n\n\n\nWasser und WC ist vor Ort vorhanden. \n\n\n\nUnkostenbeitrag: \n\n\n\n\n8€ für Vereinsmitglieder\n\n\n\n15€ für nicht Mitglieder\n\n\n\n\nAnmeldung: \n\n\n\nBeim Event kann nur eine begrenzte Anzahl an Personen teilnehmen. Teile uns bitte deinen Wunschtermin mit\, und ob du bei Platzmangel auf den anderen ausweichen könntest. \n\n\n\nAnmeldung und Abmeldung per E-Mail unter: artis@younited.ccAn- und Abmeldung bitte spätestens 3 Tage vorher. \n\n\n\nEventplan: \n\n\n\nDas Event beginnt um 13:15 und endet spätestens um 19:00. Wenn alle eingetroffen sind\, werden wir die Flechttechnik erklären und vorführen. Dann kannst du dich schon über dein Projekt werfen.Je nach Korbart\, Technik und Größe dauern Körbe unterschiedlich lang. Ein kleiner Korb mit einfachem Boden (fester Holzboden) dauert zirka 1\,5 Stunden. Größere können 2-4 Stunden dauern. Zur Sicherheit ist das Event für knapp 6 Stunden angesetzt. \n\n\n\nAm Ende hast du etwas Neues gelernt\, kannst sogar damit angeben\, dein Kunstwerk herzeigen und sinnvoll nutzen. \n\n\n\nWir freuen uns auf dein Kommen! \n\n\n\nRufus und Konsti
URL:https://younited.cc/event/weidenkorb-flechten/
LOCATION:Elia Begegnungs- und Seelsorgestelle\, Pegasusweg 3\, Linz\, 4030\, Austria
CATEGORIES:Artis
ATTACH;FMTTYPE=image/png:https://younited.cc/app/uploads/2026/01/younited-posts-neu.png
END:VEVENT
BEGIN:VEVENT
DTSTART;TZID=Europe/Vienna:20260308T140000
DTEND;TZID=Europe/Vienna:20260308T160000
DTSTAMP:20260424T155228
CREATED:20260223T111901Z
LAST-MODIFIED:20260326T180758Z
UID:1408-1772978400-1772985600@younited.cc
SUMMARY:queer un(d) fit
DESCRIPTION:Unser nächstes Treffen: \n\n\n\nSonntag\, 08.03.2026 14 Uhr \n\n\n\nam gewohnten Treffpunkt Bahnhof Ebelsberg. \n\n\n\nDie S1 um 13:53 vom Linzer HBF (Ankunft Ebelsberg um 13:59) warten wir auch bei Verspätung ab. Bitte meldet euch bei anderen Verspätungen. \n\n\n\nFür weitere Infos seht bitte in die Beschreibung auf der Website und den Eventkalender. \n\n\n\nWir freuen uns auf bekannte und auf neue Gesichter! \n\n\n\nKonsti\, Mel\, Tom
URL:https://younited.cc/event/queer-und-fit-46/
LOCATION:Bahnhof Ebelsberg\, Traundorfer Str. 91\, Linz\, 4030\, Austria
CATEGORIES:queer un(d) fit
ATTACH;FMTTYPE=image/png:https://younited.cc/app/uploads/2026/01/younited-posts-neu5.png
END:VEVENT
BEGIN:VEVENT
DTSTART;TZID=Europe/Vienna:20260309T180000
DTEND;TZID=Europe/Vienna:20260309T210000
DTSTAMP:20260424T155228
CREATED:20260107T153417Z
LAST-MODIFIED:20260125T221924Z
UID:1311-1773079200-1773090000@younited.cc
SUMMARY:Queeres Häkeln und Stricken
DESCRIPTION:Hallo ihr Lieben\,  \n\n\n\nEs gibt einen neuen Plan die Weltherrschaft an uns zu reißen: wir packen sie gemeinsam in Wollwerk ein! Das will natürlich gelernt sein\, und Zeit dafür braucht man auch. Deshalb (okay\, eigentlich weil es einfach Spaß macht) haben unser Konsti und Kay eine kleine\, feine Häkel- und Strickrunde ins Leben gerufen\, wo genau das gemacht wird.  \n\n\n\nWo und wann?  \n\n\n\nWissensturm Linz\, Raum 10.02  \n\n\n\nJeden 2. Montag im Monat (mit Ausnahmen an Feiertagen)\, 18-21 Uhr  \n\n\n\nNächster Termin: Montag\, 09. März 2026\, 18:00 bis 21:00 Uhr  \n\n\n\nDer Raum im Wissensturm ist barrierefrei über die Lifte erreichbar.  \n\n\n\nWeitere Infos:  \n\n\n\nAnfänger\, Fortgeschrittene und Vollprofis sind alle herzlich willkommen. Egal\, ob du Wolle zu lustigen kleinen Figuren verarbeiten willst\, zu Kleidung für dich\, einen <3 Menschen oder den Traktor deiner Nachbarn1\, und auch wenn du es noch gar nicht so recht weißt und Inspiration suchst mal was anderes zu probieren – hier ist eine Gelegenheit\, das in gemütlicher Atmosphäre zusammen mit coolen anderen Häkel- und Strickbegeisterten zu tun. Bücher mit verschiedensten Patterns in unterschiedlichen Schwierigkeitsgraden liegen auf. Wer gerade noch herausfindet\, wie man so eine Nadel überhaupt in die Hand nimmt\, wird gerne behutsam beim Lernen begleitet.   \n\n\n\nWir achten darauf\, zusätzliche Reize möglichst gering zu halten\, damit konzentriertes Arbeiten möglich ist. Sollte dir also in dieser Hinsicht irgendwas Probleme bereiten\, sprich es an. Du bist nicht allein 🙂  \n\n\n\nBring\, wenn möglich\, bitte deine eigenen Materialien mit. Eine begrenzte Auswahl Wolle und Nadeln zum Üben und Testen ist jedoch vorhanden und kann geliehen werden – gegen einen Unkostenbeitrag von 2€\, zahlbar mit Kreditkarten – Visa\, Mastercard\, AMEX\, DinersCard\, Discover) ApplePay und GooglePay\, oder in bar. Das Wichtigste ist die Motivation\, Weltherrschaftsbestrebungen sind optional.  \n\n\n\nUnter artis@younited.cc kannst du Fragen stellen\, die du gern vorab geklärt haben möchtest (z.b. wie wir bei der Reduktion von Barrieren unterstützen können).   \n\n\n\n1) für unglückliche Traktoren übernehmen wir aber keine Haftung. 
URL:https://younited.cc/event/queeres-haekeln-und-stricken-3/
LOCATION:Wissensturm\, Kärntnerstraße 26\, Linz\, 4020\, Austria
CATEGORIES:Artis
ATTACH;FMTTYPE=image/png:https://younited.cc/app/uploads/2026/01/younited-posts-neu3.png
END:VEVENT
BEGIN:VEVENT
DTSTART;TZID=Europe/Vienna:20260313T180000
DTEND;TZID=Europe/Vienna:20260313T220000
DTSTAMP:20260424T155228
CREATED:20260301T184343Z
LAST-MODIFIED:20260301T184344Z
UID:1417-1773424800-1773439200@younited.cc
SUMMARY:Spieleabend
DESCRIPTION:(English below)  \n\n\n\nHey Queers!Wir treffen uns wieder zu einem Spieleabend im Ann and Pat!Wer nicht spielen möchte\, kann natürlich auch einfach sitzen und quatschen.Treffpunkt ist ab 18:00 im Jugendzentrum Ann and Pat.Willkommen sind alle zwischen 14 und 25 Jahren.Wer neu ist kann sich gern melden und z.B. am Hauptplatz abgeholt werden.Wir freuen uns auf euch!Euer younited – young and queer Team \n\n\n\nEnglish: \n\n\n\nHey queers!We are meeting again for a game evening at Ann and Pat.Those who don’t want to play can also just sit and chat.We are meeting at the youth center Ann and Pat starting at 6pm.If you are new\, you are welcome to contact us and\, for example\, be picked up at the main square.We look forward to you!Your younited – young and queer team
URL:https://younited.cc/event/spieleabend-3/
LOCATION:ann and pat\, Lederergasse 7\, Linz\, 4020
CATEGORIES:linz,young and queer
ATTACH;FMTTYPE=image/png:https://younited.cc/app/uploads/2025/04/younited_2025-04-25-spieleabend-neu.png
END:VEVENT
BEGIN:VEVENT
DTSTART;TZID=Europe/Vienna:20260315T140000
DTEND;TZID=Europe/Vienna:20260315T160000
DTSTAMP:20260424T155228
CREATED:20260223T112008Z
LAST-MODIFIED:20260223T112009Z
UID:1410-1773583200-1773590400@younited.cc
SUMMARY:queer un(d) fit
DESCRIPTION:Unser nächstes Treffen: \n\n\n\nSonntag\, 15.03.2026 14 Uhr \n\n\n\nam gewohnten Treffpunkt Bahnhof Ebelsberg. \n\n\n\nDie S1 um 13:53 vom Linzer HBF (Ankunft Ebelsberg um 13:59) warten wir auch bei Verspätung ab. Bitte meldet euch bei anderen Verspätungen. \n\n\n\nFür weitere Infos seht bitte in die Beschreibung auf der Website und den Eventkalender. \n\n\n\nWir freuen uns auf bekannte und auf neue Gesichter! \n\n\n\nKonsti\, Mel\, Tom
URL:https://younited.cc/event/queer-und-fit-47/
LOCATION:Bahnhof Ebelsberg\, Traundorfer Str. 91\, Linz\, 4030\, Austria
CATEGORIES:queer un(d) fit
ATTACH;FMTTYPE=image/png:https://younited.cc/app/uploads/2026/01/younited-posts-neu5.png
END:VEVENT
BEGIN:VEVENT
DTSTART;TZID=Europe/Vienna:20260319T190000
DTEND;TZID=Europe/Vienna:20260319T230000
DTSTAMP:20260424T155228
CREATED:20260302T094042Z
LAST-MODIFIED:20260416T134057Z
UID:1397-1773946800-1773961200@younited.cc
SUMMARY:trans inter* nonbinary Stammtisch
DESCRIPTION:Der nächste trans inter* nonbinary Stammtisch findet am Donnerstag\, dem 19.03.2026 ab 19:00 im @fortynine_linz statt. \n\n\n\nDer Stammtisch bietet eine Gelegenheit\, sich in gemütlicher Wohnzimmeratmosphäre mit anderen Personen auszutauschen\, die dem trans\, inter* oder nicht binärem Spektrum angehören. Auch Menschen\, die sich nicht sicher sind\, ob sie trans\, inter* oder nicht binär sind\, sowie Angehörige sind willkommen. \n\n\n\nDieser Stammtisch ist eine Kooperation von younited und HOSI Linz.Kontakt und Anfragen zum Stammtisch bitte per Mail oder auf Instagram an @trans.inter.nonbinary.linz.
URL:https://younited.cc/event/trans-inter-nonbinary-stammtisch-4/
LOCATION:Queer Bar forty nine\, Schillerstraße 49\, Linz\, 4020
CATEGORIES:TIN-Stammtisch
ATTACH;FMTTYPE=image/jpeg:https://younited.cc/app/uploads/2026/02/641426543_1476305457840057_2975215618417870050_n.jpg
END:VEVENT
BEGIN:VEVENT
DTSTART;TZID=Europe/Vienna:20260320T180000
DTEND;TZID=Europe/Vienna:20260320T220000
DTSTAMP:20260424T155228
CREATED:20250828T113449Z
LAST-MODIFIED:20260416T131728Z
UID:1066-1774029600-1774044000@younited.cc
SUMMARY:Offener Abend
DESCRIPTION:Lust auf neue Leute\, gute Gespräche und eine entspannte Zeit in queerer Gesellschaft? Dann komm zu unserem offenen Abend!  \n\n\n\nHier kannst du: ✨ neue Leute kennenlernen ✨ dich mit anderen über aktuelle Themen austauschen ✨ eigene Ideen in den Verein einbringen ✨ einfach gemütlich abhängen  \n\n\n\nDer offene Abend ist ein Treffpunkt für alle – egal ob du schon Teil unserer Gruppen bist oder einfach mal vorbeischauen möchtest.  \n\n\n\n📍 Wann & Wo? Alle zwei Monate\, freitags in Linz. Die Termine und Treffpunkte findest du im Terminkalender.  \n\n\n\n💡 Keine Anmeldung nötig – komm einfach vorbei\, wann es dir passt. Es gibt Snacks und Spiele\, und wenn du magst\, bring gerne selbst etwas mit.  \n\n\n\nWir freuen uns auf dich! 💜  \n\n\n\nDein younited – Team 
URL:https://younited.cc/event/offener-abend-bei-younited-3/
LOCATION:Willy*Fred\, Graben 3\, Linz\, 4020\, Austria
CATEGORIES:Offener Abend
ATTACH;FMTTYPE=image/png:https://younited.cc/app/uploads/2025/08/younited_offener_abend_2026-03-1.png
END:VEVENT
BEGIN:VEVENT
DTSTART;TZID=Europe/Vienna:20260321T140000
DTEND;TZID=Europe/Vienna:20260321T160000
DTSTAMP:20260424T155228
CREATED:20260301T201719Z
LAST-MODIFIED:20260301T203236Z
UID:1419-1774101600-1774108800@younited.cc
SUMMARY:Fotospaziergang
DESCRIPTION:Liebe Freund*innen der Fotokunst\,  \n\n\n\nder erste Fotospaziergang steht unter dem Stern der Architektur. Vom neugotischen Mariendom über die Neue Sachlichkeit der Tabakfabrik bis zum modernen Glaskasten des Ars Electronica Centers – Linz hat architektonisch viel zu bieten. Gemeinsam können wir die gewohnte Stadt mit Hilfe der Fotografie neu kennenlernen und womöglich sogar wertvolle Tipps als Souvenir mit nach Hause nehmen!  \n\n\n\nGrundkenntnisse der Fotografie (z.B. Belichtungsdauer und Blendenzahl) sind von Vorteil\, aber keine Voraussetzung. Auch Anfänger*innen bekommen hier die Möglichkeit sich dieses Wissen anzueignen oder weiter zu verfeinern. Es wird empfohlen einen eigenen Fotoapparat mitzunehmen\, jedoch ist genauso eine Teilnahme mit dem Smartphone möglich.  \n\n\n\nWo? Treffpunkt ist beim Neptunbrunnen am südlichen Ende des Linzer Hauptplatzes.Wann? Samstag\, 21. März 2026 von 14:00 bis etwa 16:00 Uhr.   \n\n\n\nWetterbedingt kann es zu kurzfristigen Abweichungen kommen. Bitte dem Wetter entsprechend kleiden. Die Route des Fotospaziergangs wird mit den Bedürfnissen und Wünschen der Teilnehmenden abgestimmt. Dennoch gilt es zu beachten\, dass wir uns durch eine belebte Altstadt mit Straßenverkehr bewegen. 
URL:https://younited.cc/event/fotospaziergang/
LOCATION:Hauptplatz Linz\, Hauptplatz 1\, Linz\, 4020\, Austria
CATEGORIES:Artis
ATTACH;FMTTYPE=image/png:https://younited.cc/app/uploads/2026/03/younited-artis-fotospaziergang-2026-03.png
END:VEVENT
BEGIN:VEVENT
DTSTART;TZID=Europe/Vienna:20260322T140000
DTEND;TZID=Europe/Vienna:20260322T160000
DTSTAMP:20260424T155228
CREATED:20260223T112027Z
LAST-MODIFIED:20260223T112028Z
UID:1412-1774188000-1774195200@younited.cc
SUMMARY:queer un(d) fit
DESCRIPTION:Unser nächstes Treffen: \n\n\n\nSonntag\, 22.03.2026 14 Uhr \n\n\n\nam gewohnten Treffpunkt Bahnhof Ebelsberg. \n\n\n\nDie S1 um 13:53 vom Linzer HBF (Ankunft Ebelsberg um 13:59) warten wir auch bei Verspätung ab. Bitte meldet euch bei anderen Verspätungen. \n\n\n\nFür weitere Infos seht bitte in die Beschreibung auf der Website und den Eventkalender. \n\n\n\nWir freuen uns auf bekannte und auf neue Gesichter! \n\n\n\nKonsti\, Mel\, Tom
URL:https://younited.cc/event/queer-und-fit-48/
LOCATION:Bahnhof Ebelsberg\, Traundorfer Str. 91\, Linz\, 4030\, Austria
CATEGORIES:queer un(d) fit
ATTACH;FMTTYPE=image/png:https://younited.cc/app/uploads/2026/01/younited-posts-neu5.png
END:VEVENT
BEGIN:VEVENT
DTSTART;TZID=Europe/Vienna:20260327T180000
DTEND;TZID=Europe/Vienna:20260327T220000
DTSTAMP:20260424T155228
CREATED:20260318T115537Z
LAST-MODIFIED:20260325T095755Z
UID:1549-1774634400-1774648800@younited.cc
SUMMARY:Frühlingsspaziergang
DESCRIPTION:Hey Queers!Es ist wieder Frühling\, und wir genießen die warme Sonne bei einem Frühlingsspaziergang!Wir sind gemütlich auf der Donaulände unterwegs\, und wärmen uns danach bei ein paar Runden Uno im Ann and Pat auf.Bei Schlechtwetter folgen Infos zum Alternativprogramm.Treffpunkt ist ab 18:00 im Jugendzentrum Ann and Pat.Willkommen sind alle zwischen 14 und 25 Jahren.Wer neu ist kann sich gern melden und z.B. am Hauptplatz abgeholt werden.Wir freuen uns auf euch!Euer younited – young and queer Team \n\n\n\nHey queers!It’s spring\, and we’re enjoying the sun on a spring walk!We’re taking a leisurely walk along the Danube\, and will warm up afterwards by playing Uno at the Ann and Pat.In case the weather is bad\, we will stay at the Ann and Pat and play some games.We are meeting at the youth center Ann and Pat on April 11th at 6pm.If you are new\, you are welcome to contact us and\, for example\, be picked up at the main square.We look forward to you!Your younited – young and queer team
URL:https://younited.cc/event/fruehlingsspaziergang-3/
LOCATION:ann and pat\, Lederergasse 7\, Linz\, 4020
CATEGORIES:young and queer
ATTACH;FMTTYPE=image/jpeg:https://younited.cc/app/uploads/2026/03/younited-posts-neu-1-1.jpg
END:VEVENT
BEGIN:VEVENT
DTSTART;TZID=Europe/Vienna:20260329T140000
DTEND;TZID=Europe/Vienna:20260329T160000
DTSTAMP:20260424T155228
CREATED:20260325T094853Z
LAST-MODIFIED:20260325T094853Z
UID:1566-1774792800-1774800000@younited.cc
SUMMARY:queer un(d) fit
DESCRIPTION:Unser nächstes Treffen: \n\n\n\nSonntag\, 29.03.2026 14 Uhr \n\n\n\nam gewohnten Treffpunkt Bahnhof Ebelsberg. \n\n\n\nDie S1 um 13:53 vom Linzer HBF (Ankunft Ebelsberg um 13:59) warten wir auch bei Verspätung ab. Bitte meldet euch bei anderen Verspätungen. \n\n\n\nFür weitere Infos seht bitte in die Beschreibung auf der Website und den Eventkalender. \n\n\n\nWir freuen uns auf bekannte und auf neue Gesichter! \n\n\n\nKonsti\, Mel\, Tom
URL:https://younited.cc/event/queer-und-fit-49/
LOCATION:Bahnhof Ebelsberg\, Traundorfer Str. 91\, Linz\, 4030\, Austria
CATEGORIES:queer un(d) fit
ATTACH;FMTTYPE=image/png:https://younited.cc/app/uploads/2026/01/younited-posts-neu5.png
END:VEVENT
END:VCALENDAR